FILENAME: O4711002.NES.1080787.tif
QUADRANGLE_NAME: CARTER NE
QUADRANT: NE
WEST_LONGITUDE: -110 48 45.00000
EAST_LONGITUDE: -110 45 0.00000
NORTH_LATITUDE: 48 0 0.00000
SOUTH_LATITUDE: 47 56 15.00000
PRODUCTION_DATE: 2000 5 16
RASTER_ORDER: LEFT_RIGHT/TOP_BOTTOM
BAND_ORGANIZATION: SINGLE FILE
BAND_CONTENT: BLACK&WHITE
BAND_CONTENT: UNDEFINED
BAND_CONTENT: UNDEFINED
BITS_PER_PIXEL: 8
SAMPLES_AND_LINES: 5346 7566
HORIZONTAL_DATUM: NAD83
HORIZONTAL_COORDINATE_SYSTEM: UTM
COORDINATE_ZONE: 12
HORIZONTAL_UNITS: METERS
HORIZONTAL_RESOLUTION: 1.00000
SECONDARY_HORIZONTAL_DATUM: NAD27
XY_ORIGIN: 513627.00000 5316631.00000
SECONDARY_XY_ORIGIN: 513685.56400 5316415.71200
NATION: US
NATION: "SCIENCE
STATE: MT
NW_QUAD_CORNER_XY: 513986.65400 5316317.23100
NE_QUAD_CORNER_XY: 518648.87000 5316330.45900
SE_QUAD_CORNERY_XY: 518671.38400 5309383.88900
SW_QUAD_CORNER_XY: 514003.54000 5309370.65800
SECONDARY_NW_QUAD_XY: 513987.09400 5316098.35100
SECONDARY_NE_QUAD_XY: 518649.45700 5316111.58000
SECONDARY_SE_QUAD_XY: 518671.97000 5309165.02400
SECONDARY_SW_QUAD_XY: 514003.98000 5309151.79300
RMSE_XY: 1.20000
IMAGE_SOURCE: BLACK AND WHITE FILM
SOURCE_IMAGE_ID: NAPP 9167 287
SOURCE_IMAGE_DATE: 1996 08 26
SOURCE_DEM_DATE: 1987 00 00
AGENCY: WESTERN MAPPING CENTER (WMC)
PRODUCER: UNDEFINED
PRODUCTION_SYSTEM: GIS/MAGIC
COMPRESSION: UNDEFINED
STANDARD_VERSION: 1996 12
METADATA_DATE: 2000 06 13
DATA_FILE_SIZE: 40453182
BYTE_COUNT: 5346
