FILENAME: O4711002.SES.1080789.tif
QUADRANGLE_NAME: CARTER NE
QUADRANT: SE
WEST_LONGITUDE: -110 48 45.00000
EAST_LONGITUDE: -110 45 0.00000
NORTH_LATITUDE: 47 56 15.00000
SOUTH_LATITUDE: 47 52 30.00000
PRODUCTION_DATE: 2000 5 16
RASTER_ORDER: LEFT_RIGHT/TOP_BOTTOM
BAND_ORGANIZATION: SINGLE FILE
BAND_CONTENT: BLACK&WHITE
BAND_CONTENT: UNDEFINED
BAND_CONTENT: UNDEFINED
BITS_PER_PIXEL: 8
SAMPLES_AND_LINES: 5351 7566
HORIZONTAL_DATUM: NAD83
HORIZONTAL_COORDINATE_SYSTEM: UTM
COORDINATE_ZONE: 12
HORIZONTAL_UNITS: METERS
HORIZONTAL_RESOLUTION: 1.00000
SECONDARY_HORIZONTAL_DATUM: NAD27
XY_ORIGIN: 513644.00000 5309684.00000
SECONDARY_XY_ORIGIN: 513702.53900 5309468.76200
NATION: US
NATION: "SCIENCE
STATE: MT
NW_QUAD_CORNER_XY: 514003.54000 5309370.65800
NE_QUAD_CORNER_XY: 518671.38400 5309383.88900
SE_QUAD_CORNERY_XY: 518693.87500 5302437.39400
SW_QUAD_CORNER_XY: 514020.40800 5302424.16000
SECONDARY_NW_QUAD_XY: 514003.98000 5309151.79300
SECONDARY_NE_QUAD_XY: 518671.97000 5309165.02400
SECONDARY_SE_QUAD_XY: 518694.46200 5302218.54600
SECONDARY_SW_QUAD_XY: 514020.84800 5302205.31100
RMSE_XY: 1.00000
IMAGE_SOURCE: BLACK AND WHITE FILM
SOURCE_IMAGE_ID: NAPP 9167 285
SOURCE_IMAGE_DATE: 1996 08 26
SOURCE_IMAGE_ID: NAPP 9167 284
SOURCE_IMAGE_DATE: 1996 08 26
SOURCE_DEM_DATE: 1987 00 00
AGENCY: WESTERN MAPPING CENTER (WMC)
PRODUCER: UNDEFINED
PRODUCTION_SYSTEM: GIS/MAGIC
COMPRESSION: UNDEFINED
STANDARD_VERSION: 1996 12
METADATA_DATE: 2000 06 13
DATA_FILE_SIZE: 40491017
BYTE_COUNT: 5351
