FILENAME: O4711001.SES.1078228.tif
QUADRANGLE_NAME: APPLE SCHOOL
QUADRANT: SE
WEST_LONGITUDE: -110 56 15.00000
EAST_LONGITUDE: -110 52 30.00000
NORTH_LATITUDE: 47 56 15.00000
SOUTH_LATITUDE: 47 52 30.00000
PRODUCTION_DATE: 2000 5 9
RASTER_ORDER: LEFT_RIGHT/TOP_BOTTOM
BAND_ORGANIZATION: SINGLE FILE
BAND_CONTENT: BLACK&WHITE
BAND_CONTENT: UNDEFINED
BAND_CONTENT: UNDEFINED
BITS_PER_PIXEL: 8
SAMPLES_AND_LINES: 5340 7559
HORIZONTAL_DATUM: NAD83
HORIZONTAL_COORDINATE_SYSTEM: UTM
COORDINATE_ZONE: 12
HORIZONTAL_UNITS: METERS
HORIZONTAL_RESOLUTION: 1.00000
SECONDARY_HORIZONTAL_DATUM: NAD27
XY_ORIGIN: 504308.00000 5309662.00000
SECONDARY_XY_ORIGIN: 504366.71600 5309446.72600
NATION: US
NATION: "SCIENCE
STATE: MT
NW_QUAD_CORNER_XY: 504667.84700 5309355.53700
NE_QUAD_CORNER_XY: 509335.69400 5309361.20700
SE_QUAD_CORNERY_XY: 509346.94000 5302414.70700
SW_QUAD_CORNER_XY: 504673.47000 5302409.03600
SECONDARY_NW_QUAD_XY: 504667.99400 5309136.67100
SECONDARY_NE_QUAD_XY: 509335.98700 5309142.34200
SECONDARY_SE_QUAD_XY: 509347.23300 5302195.85800
SECONDARY_SW_QUAD_XY: 504673.61700 5302190.18600
RMSE_XY: 1.00000
IMAGE_SOURCE: BLACK AND WHITE FILM
SOURCE_IMAGE_ID: NAPP 9168 087
SOURCE_IMAGE_DATE: 1996 08 26
SOURCE_IMAGE_ID: NAPP 9168 045
SOURCE_IMAGE_DATE: 1996 08 26
SOURCE_DEM_DATE: 1969 00 00
AGENCY: WESTERN MAPPING CENTER (WMC)
PRODUCER: UNDEFINED
PRODUCTION_SYSTEM: GIS/MAGIC
COMPRESSION: UNDEFINED
STANDARD_VERSION: 1996 12
METADATA_DATE: 2000 06 02
DATA_FILE_SIZE: 40370400
BYTE_COUNT: 5340
