FILENAME: O4711001.SWS.1078229.tif
QUADRANGLE_NAME: APPLE SCHOOL
QUADRANT: SW
WEST_LONGITUDE: -111 0 0.00000
EAST_LONGITUDE: -110 56 15.00000
NORTH_LATITUDE: 47 56 15.00000
SOUTH_LATITUDE: 47 52 30.00000
PRODUCTION_DATE: 2000 5 9
RASTER_ORDER: LEFT_RIGHT/TOP_BOTTOM
BAND_ORGANIZATION: SINGLE FILE
BAND_CONTENT: BLACK&WHITE
BAND_CONTENT: UNDEFINED
BAND_CONTENT: UNDEFINED
BITS_PER_PIXEL: 8
SAMPLES_AND_LINES: 5335 7555
HORIZONTAL_DATUM: NAD83
HORIZONTAL_COORDINATE_SYSTEM: UTM
COORDINATE_ZONE: 12
HORIZONTAL_UNITS: METERS
HORIZONTAL_RESOLUTION: 1.00000
SECONDARY_HORIZONTAL_DATUM: NAD27
XY_ORIGIN: 499640.00000 5309656.00000
SECONDARY_XY_ORIGIN: 499698.80500 5309440.70800
NATION: US
NATION: "SCIENCE
STATE: MT
NW_QUAD_CORNER_XY: 500000.00000 5309353.64700
NE_QUAD_CORNER_XY: 504667.84700 5309355.53700
SE_QUAD_CORNERY_XY: 504673.47000 5302409.03600
SW_QUAD_CORNER_XY: 500000.00000 5302407.14500
SECONDARY_NW_QUAD_XY: 500000.00000 5309134.78100
SECONDARY_NE_QUAD_XY: 504667.99400 5309136.67100
SECONDARY_SE_QUAD_XY: 504673.61700 5302190.18600
SECONDARY_SW_QUAD_XY: 500000.00000 5302188.29600
RMSE_XY: 1.10000
IMAGE_SOURCE: BLACK AND WHITE FILM
SOURCE_IMAGE_ID: NAPP 9168 103
SOURCE_IMAGE_DATE: 1996 08 26
SOURCE_DEM_DATE: 1969 00 00
AGENCY: WESTERN MAPPING CENTER (WMC)
PRODUCER: UNDEFINED
PRODUCTION_SYSTEM: GIS/MAGIC
COMPRESSION: UNDEFINED
STANDARD_VERSION: 1996 12
METADATA_DATE: 2000 06 02
DATA_FILE_SIZE: 40311260
BYTE_COUNT: 5335
