FILENAME: O4711159.NWS.1154564.tif
QUADRANGLE_NAME: HOUND CREEK RESERVOIR
QUADRANT: NW
WEST_LONGITUDE: -111 45 0.00000
EAST_LONGITUDE: -111 41 15.00000
NORTH_LATITUDE: 47 7 30.00000
SOUTH_LATITUDE: 47 3 45.00000
PRODUCTION_DATE: 2001 07 16
RASTER_ORDER: LEFT_RIGHT/TOP_BOTTOM
BAND_ORGANIZATION: SINGLE FILE
BAND_CONTENT: BLACK&WHITE
BAND_CONTENT: UNDEFINED
BAND_CONTENT: UNDEFINED
BITS_PER_PIXEL: 8
SAMPLES_AND_LINES: 5490 7620
HORIZONTAL_DATUM: NAD83
HORIZONTAL_COORDINATE_SYSTEM: UTM
COORDINATE_ZONE: 12
HORIZONTAL_UNITS: METERS
HORIZONTAL_RESOLUTION: 1.00000
SECONDARY_HORIZONTAL_DATUM: NAD27
XY_ORIGIN: 442680.00000 5219640.00000
SECONDARY_XY_ORIGIN: 442740.35800 5219426.75700
NATION: US
STATE: MT
NW_QUAD_CORNER_XY: 443114.05500 5219327.91600
NE_QUAD_CORNER_XY: 447854.53300 5219284.33400
SE_QUAD_CORNERY_XY: 447793.48600 5212338.85700
SW_QUAD_CORNER_XY: 443047.45800 5212382.44600
SECONDARY_NW_QUAD_XY: 443112.29700 5219109.33500
SECONDARY_NE_QUAD_XY: 447852.92200 5219065.75100
SECONDARY_SE_QUAD_XY: 447791.87500 5212120.30100
SECONDARY_SW_QUAD_XY: 443045.70000 5212163.89200
RMSE_XY: 2.79000
IMAGE_SOURCE: BLACK AND WHITE FILM
SOURCE_IMAGE_ID: NAPP 9181 170
SOURCE_IMAGE_DATE: 1997 09 09
SOURCE_IMAGE_ID: NAPP 9181 168
SOURCE_IMAGE_DATE: 1997 09 09
SOURCE_IMAGE_ID: NAPP 9181 241
SOURCE_IMAGE_DATE: 1997 09 09
SOURCE_IMAGE_ID: NAPP 9181 172
SOURCE_IMAGE_DATE: 1997 09 09
SOURCE_DEM_DATE: 1956 00 00
AGENCY: WESTERN MAPPING CENTER (WMC)
PRODUCER: ANALYTICAL SURVEYS INC.
PRODUCTION_SYSTEM: ORBIT OR_RECTIFY V.5.2
COMPRESSION: UNDEFINED
STANDARD_VERSION: 1996 12
METADATA_DATE: 2001 07 17
DATA_FILE_SIZE: 41839290
BYTE_COUNT: 5490
