FILENAME: O4711157.NES.1154555.tif
QUADRANGLE_NAME: CRAIG
QUADRANT: NE
WEST_LONGITUDE: -111 56 15.00000
EAST_LONGITUDE: -111 52 30.00000
NORTH_LATITUDE: 47 7 30.00000
SOUTH_LATITUDE: 47 3 45.00000
PRODUCTION_DATE: 2001 04 12
RASTER_ORDER: LEFT_RIGHT/TOP_BOTTOM
BAND_ORGANIZATION: SINGLE FILE
BAND_CONTENT: BLACK&WHITE
BAND_CONTENT: UNDEFINED
BAND_CONTENT: UNDEFINED
BITS_PER_PIXEL: 8
SAMPLES_AND_LINES: 5520 7620
HORIZONTAL_DATUM: NAD83
HORIZONTAL_COORDINATE_SYSTEM: UTM
COORDINATE_ZONE: 12
HORIZONTAL_UNITS: METERS
HORIZONTAL_RESOLUTION: 1.00000
SECONDARY_HORIZONTAL_DATUM: NAD27
XY_ORIGIN: 428430.00000 5219790.00000
SECONDARY_XY_ORIGIN: 428490.76300 5219576.73300
NATION: US
STATE: MT
NW_QUAD_CORNER_XY: 428892.65200 5219481.40400
NE_QUAD_CORNER_XY: 433633.11400 5219426.45100
SE_QUAD_CORNERY_XY: 433555.41600 5212480.99600
SW_QUAD_CORNER_XY: 428809.40300 5212535.95800
SECONDARY_NW_QUAD_XY: 428890.45400 5219262.82700
SECONDARY_NE_QUAD_XY: 433631.06300 5219207.87300
SECONDARY_SE_QUAD_XY: 433553.36600 5212262.44500
SECONDARY_SW_QUAD_XY: 428807.20600 5212317.40900
RMSE_XY: 1.91000
IMAGE_SOURCE: BLACK AND WHITE FILM
SOURCE_IMAGE_ID: NAPP 9182 26
SOURCE_IMAGE_DATE: 1997 09 09
SOURCE_IMAGE_ID: NAPP 9182 24
SOURCE_IMAGE_DATE: 1997 09 09
SOURCE_IMAGE_ID: NAPP 9182 28
SOURCE_IMAGE_DATE: 1997 09 09
SOURCE_DEM_DATE: 2001 01 01
AGENCY: WESTERN MAPPING CENTER (WMC)
PRODUCER: ANALYTICAL SURVEYS INC.
PRODUCTION_SYSTEM: ORBIT OR_RECTIFY V.5.2
COMPRESSION: UNDEFINED
STANDARD_VERSION: 1996 12
METADATA_DATE: 2001 07 17
DATA_FILE_SIZE: 42067920
BYTE_COUNT: 5520
