FILENAME: O4711157.SWS.1154558.tif
QUADRANGLE_NAME: CRAIG
QUADRANT: SW
WEST_LONGITUDE: -112 0 0.00000
EAST_LONGITUDE: -111 56 15.00000
NORTH_LATITUDE: 47 3 45.00000
SOUTH_LATITUDE: 47 0 0.00000
PRODUCTION_DATE: 2001 04 12
RASTER_ORDER: LEFT_RIGHT/TOP_BOTTOM
BAND_ORGANIZATION: SINGLE FILE
BAND_CONTENT: BLACK&WHITE
BAND_CONTENT: UNDEFINED
BAND_CONTENT: UNDEFINED
BITS_PER_PIXEL: 8
SAMPLES_AND_LINES: 5520 7650
HORIZONTAL_DATUM: NAD83
HORIZONTAL_COORDINATE_SYSTEM: UTM
COORDINATE_ZONE: 12
HORIZONTAL_UNITS: METERS
HORIZONTAL_RESOLUTION: 1.00000
SECONDARY_HORIZONTAL_DATUM: NAD27
XY_ORIGIN: 423600.00000 5212920.00000
SECONDARY_XY_ORIGIN: 423660.96500 5212706.85900
NATION: US
STATE: MT
NW_QUAD_CORNER_XY: 424063.39600 5212594.71100
NE_QUAD_CORNER_XY: 428809.40300 5212535.95800
SE_QUAD_CORNERY_XY: 428726.24000 5205590.58600
SW_QUAD_CORNER_XY: 423974.68800 5205649.34800
SECONDARY_NW_QUAD_XY: 424061.05300 5212376.16300
SECONDARY_NE_QUAD_XY: 428807.20600 5212317.40900
SECONDARY_SE_QUAD_XY: 428724.04300 5205372.06500
SECONDARY_SW_QUAD_XY: 423972.34500 5205430.82800
RMSE_XY: 2.95000
IMAGE_SOURCE: BLACK AND WHITE FILM
SOURCE_IMAGE_ID: NAPP 9182 39
SOURCE_IMAGE_DATE: 1997 09 09
SOURCE_IMAGE_ID: NAPP 9182 37
SOURCE_IMAGE_DATE: 1997 09 09
SOURCE_DEM_DATE: 2001 01 01
AGENCY: WESTERN MAPPING CENTER (WMC)
PRODUCER: ANALYTICAL SURVEYS INC.
PRODUCTION_SYSTEM: ORBIT OR_RECTIFY V.5.2
COMPRESSION: UNDEFINED
STANDARD_VERSION: 1996 12
METADATA_DATE: 2001 07 17
DATA_FILE_SIZE: 42233520
BYTE_COUNT: 5520
