FILENAME: O4711151.NES.1154491.tif
QUADRANGLE_NAME: ROCKY REEF
QUADRANT: NE
WEST_LONGITUDE: -111 41 15.00000
EAST_LONGITUDE: -111 37 30.00000
NORTH_LATITUDE: 47 15 0.00000
SOUTH_LATITUDE: 47 11 15.00000
PRODUCTION_DATE: 2001 07 16
RASTER_ORDER: LEFT_RIGHT/TOP_BOTTOM
BAND_ORGANIZATION: SINGLE FILE
BAND_CONTENT: BLACK&WHITE
BAND_CONTENT: UNDEFINED
BAND_CONTENT: UNDEFINED
BITS_PER_PIXEL: 8
SAMPLES_AND_LINES: 5490 7620
HORIZONTAL_DATUM: NAD83
HORIZONTAL_COORDINATE_SYSTEM: UTM
COORDINATE_ZONE: 12
HORIZONTAL_UNITS: METERS
HORIZONTAL_RESOLUTION: 1.00000
SECONDARY_HORIZONTAL_DATUM: NAD27
XY_ORIGIN: 447540.00000 5233500.00000
SECONDARY_XY_ORIGIN: 447600.07600 5233286.42000
NATION: US
STATE: MT
NW_QUAD_CORNER_XY: 447976.81400 5233175.51200
NE_QUAD_CORNER_XY: 452706.17900 5233135.73300
SE_QUAD_CORNERY_XY: 452650.56900 5226190.10000
SW_QUAD_CORNER_XY: 447915.64200 5226229.88500
SECONDARY_NW_QUAD_XY: 447975.20200 5232956.87800
SECONDARY_NE_QUAD_XY: 452704.71400 5232917.09800
SECONDARY_SE_QUAD_XY: 452649.10400 5225971.49000
SECONDARY_SW_QUAD_XY: 447914.03100 5226011.27700
RMSE_XY: 0.62000
IMAGE_SOURCE: BLACK AND WHITE FILM
SOURCE_IMAGE_ID: NAPP 9181 163
SOURCE_IMAGE_DATE: 1997 09 09
SOURCE_IMAGE_ID: NAPP 9181 161
SOURCE_IMAGE_DATE: 1997 09 09
SOURCE_DEM_DATE: 1992 00 00
AGENCY: WESTERN MAPPING CENTER (WMC)
PRODUCER: ANALYTICAL SURVEYS INC.
PRODUCTION_SYSTEM: ORBIT OR_RECTIFY V.5.2
COMPRESSION: UNDEFINED
STANDARD_VERSION: 1996 12
METADATA_DATE: 2001 08 11
DATA_FILE_SIZE: 41839290
BYTE_COUNT: 5490
