FILENAME: O4711151.NWS.1154492.tif
QUADRANGLE_NAME: ROCKY REEF
QUADRANT: NW
WEST_LONGITUDE: -111 45 0.00000
EAST_LONGITUDE: -111 41 15.00000
NORTH_LATITUDE: 47 15 0.00000
SOUTH_LATITUDE: 47 11 15.00000
PRODUCTION_DATE: 2001 07 16
RASTER_ORDER: LEFT_RIGHT/TOP_BOTTOM
BAND_ORGANIZATION: SINGLE FILE
BAND_CONTENT: BLACK&WHITE
BAND_CONTENT: UNDEFINED
BAND_CONTENT: UNDEFINED
BITS_PER_PIXEL: 8
SAMPLES_AND_LINES: 5490 7620
HORIZONTAL_DATUM: NAD83
HORIZONTAL_COORDINATE_SYSTEM: UTM
COORDINATE_ZONE: 12
HORIZONTAL_UNITS: METERS
HORIZONTAL_RESOLUTION: 1.00000
SECONDARY_HORIZONTAL_DATUM: NAD27
XY_ORIGIN: 442800.00000 5233530.00000
SECONDARY_XY_ORIGIN: 442860.24500 5233316.45600
NATION: US
STATE: MT
NW_QUAD_CORNER_XY: 443247.45300 5233219.08000
NE_QUAD_CORNER_XY: 447976.81400 5233175.51200
SE_QUAD_CORNERY_XY: 447915.64200 5226229.88500
SW_QUAD_CORNER_XY: 443180.72000 5226273.46100
SECONDARY_NW_QUAD_XY: 443245.69500 5233000.44700
SECONDARY_NE_QUAD_XY: 447975.20200 5232956.87800
SECONDARY_SE_QUAD_XY: 447914.03100 5226011.27700
SECONDARY_SW_QUAD_XY: 443178.96200 5226054.85300
RMSE_XY: 1.60000
IMAGE_SOURCE: BLACK AND WHITE FILM
SOURCE_IMAGE_ID: NAPP 9181 166
SOURCE_IMAGE_DATE: 1997 09 09
SOURCE_DEM_DATE: 1992 00 00
AGENCY: WESTERN MAPPING CENTER (WMC)
PRODUCER: ANALYTICAL SURVEYS INC.
PRODUCTION_SYSTEM: ORBIT OR_RECTIFY V.5.2
COMPRESSION: UNDEFINED
STANDARD_VERSION: 1996 12
METADATA_DATE: 2001 08 11
DATA_FILE_SIZE: 41839290
BYTE_COUNT: 5490
