FILENAME: O4711151.SWS.1154494.tif
QUADRANGLE_NAME: ROCKY REEF
QUADRANT: SW
WEST_LONGITUDE: -111 45 0.00000
EAST_LONGITUDE: -111 41 15.00000
NORTH_LATITUDE: 47 11 15.00000
SOUTH_LATITUDE: 47 7 30.00000
PRODUCTION_DATE: 2001 07 16
RASTER_ORDER: LEFT_RIGHT/TOP_BOTTOM
BAND_ORGANIZATION: SINGLE FILE
BAND_CONTENT: BLACK&WHITE
BAND_CONTENT: UNDEFINED
BAND_CONTENT: UNDEFINED
BITS_PER_PIXEL: 8
SAMPLES_AND_LINES: 5490 7650
HORIZONTAL_DATUM: NAD83
HORIZONTAL_COORDINATE_SYSTEM: UTM
COORDINATE_ZONE: 12
HORIZONTAL_UNITS: METERS
HORIZONTAL_RESOLUTION: 1.00000
SECONDARY_HORIZONTAL_DATUM: NAD27
XY_ORIGIN: 442740.00000 5226600.00000
SECONDARY_XY_ORIGIN: 442800.30200 5226386.60600
NATION: US
STATE: MT
NW_QUAD_CORNER_XY: 443180.72000 5226273.46100
NE_QUAD_CORNER_XY: 447915.64200 5226229.88500
SE_QUAD_CORNERY_XY: 447854.53300 5219284.33400
SW_QUAD_CORNER_XY: 443114.05500 5219327.91600
SECONDARY_NW_QUAD_XY: 443178.96200 5226054.85300
SECONDARY_NE_QUAD_XY: 447914.03100 5226011.27700
SECONDARY_SE_QUAD_XY: 447852.92200 5219065.75100
SECONDARY_SW_QUAD_XY: 443112.29700 5219109.33500
RMSE_XY: 1.70000
IMAGE_SOURCE: BLACK AND WHITE FILM
SOURCE_IMAGE_ID: NAPP 9181 168
SOURCE_IMAGE_DATE: 1997 09 09
SOURCE_DEM_DATE: 1992 00 00
AGENCY: WESTERN MAPPING CENTER (WMC)
PRODUCER: ANALYTICAL SURVEYS INC.
PRODUCTION_SYSTEM: ORBIT OR_RECTIFY V.5.2
COMPRESSION: UNDEFINED
STANDARD_VERSION: 1996 12
METADATA_DATE: 2001 08 11
DATA_FILE_SIZE: 42003990
BYTE_COUNT: 5490
