FILENAME: O4711150.NES.1154487.tif
QUADRANGLE_NAME: HARDY
QUADRANT: NE
WEST_LONGITUDE: -111 48 45.00000
EAST_LONGITUDE: -111 45 0.00000
NORTH_LATITUDE: 47 15 0.00000
SOUTH_LATITUDE: 47 11 15.00000
PRODUCTION_DATE: 2001 07 16
RASTER_ORDER: LEFT_RIGHT/TOP_BOTTOM
BAND_ORGANIZATION: SINGLE FILE
BAND_CONTENT: BLACK&WHITE
BAND_CONTENT: UNDEFINED
BAND_CONTENT: UNDEFINED
BITS_PER_PIXEL: 8
SAMPLES_AND_LINES: 5490 7650
HORIZONTAL_DATUM: NAD83
HORIZONTAL_COORDINATE_SYSTEM: UTM
COORDINATE_ZONE: 12
HORIZONTAL_UNITS: METERS
HORIZONTAL_RESOLUTION: 1.00000
SECONDARY_HORIZONTAL_DATUM: NAD27
XY_ORIGIN: 438060.00000 5233590.00000
SECONDARY_XY_ORIGIN: 438120.37300 5233376.45600
NATION: US
STATE: MT
NW_QUAD_CORNER_XY: 438518.09800 5233266.43700
NE_QUAD_CORNER_XY: 443247.45300 5233219.08000
SE_QUAD_CORNERY_XY: 443180.72000 5226273.46100
SW_QUAD_CORNER_XY: 438445.80300 5226320.82500
SECONDARY_NW_QUAD_XY: 438516.19300 5233047.80600
SECONDARY_NE_QUAD_XY: 443245.69500 5233000.44700
SECONDARY_SE_QUAD_XY: 443178.96200 5226054.85300
SECONDARY_SW_QUAD_XY: 438443.89800 5226102.21900
RMSE_XY: 2.41000
IMAGE_SOURCE: BLACK AND WHITE FILM
SOURCE_IMAGE_ID: NAPP 9181 245
SOURCE_IMAGE_DATE: 1997 09 09
SOURCE_IMAGE_ID: NAPP 9181 248
SOURCE_IMAGE_DATE: 1997 09 09
SOURCE_DEM_DATE: 2001 01 01
AGENCY: WESTERN MAPPING CENTER (WMC)
PRODUCER: ANALYTICAL SURVEYS INC.
PRODUCTION_SYSTEM: ORBIT OR_RECTIFY V.5.2
COMPRESSION: UNDEFINED
STANDARD_VERSION: 1996 12
METADATA_DATE: 2001 08 11
DATA_FILE_SIZE: 42003990
BYTE_COUNT: 5490
