FILENAME: O4711150.SWS.1154490.tif
QUADRANGLE_NAME: HARDY
QUADRANT: SW
WEST_LONGITUDE: -111 52 30.00000
EAST_LONGITUDE: -111 48 45.00000
NORTH_LATITUDE: 47 11 15.00000
SOUTH_LATITUDE: 47 7 30.00000
PRODUCTION_DATE: 2001 04 11
RASTER_ORDER: LEFT_RIGHT/TOP_BOTTOM
BAND_ORGANIZATION: SINGLE FILE
BAND_CONTENT: BLACK&WHITE
BAND_CONTENT: UNDEFINED
BAND_CONTENT: UNDEFINED
BITS_PER_PIXEL: 8
SAMPLES_AND_LINES: 5490 7650
HORIZONTAL_DATUM: NAD83
HORIZONTAL_COORDINATE_SYSTEM: UTM
COORDINATE_ZONE: 12
HORIZONTAL_UNITS: METERS
HORIZONTAL_RESOLUTION: 1.00000
SECONDARY_HORIZONTAL_DATUM: NAD27
XY_ORIGIN: 433260.00000 5226690.00000
SECONDARY_XY_ORIGIN: 433320.56500 5226476.59800
NATION: US
STATE: MT
NW_QUAD_CORNER_XY: 433710.89100 5226371.98000
NE_QUAD_CORNER_XY: 438445.80300 5226320.82500
SE_QUAD_CORNERY_XY: 438373.58200 5219375.28800
SW_QUAD_CORNER_XY: 433633.11400 5219426.45100
SECONDARY_NW_QUAD_XY: 433708.84000 5226153.37500
SECONDARY_NE_QUAD_XY: 438443.89800 5226102.21900
SECONDARY_SE_QUAD_XY: 438371.67700 5219156.70800
SECONDARY_SW_QUAD_XY: 433631.06300 5219207.87300
RMSE_XY: 1.72000
IMAGE_SOURCE: BLACK AND WHITE FILM
SOURCE_IMAGE_ID: NAPP 9181 250
SOURCE_IMAGE_DATE: 1997 09 09
SOURCE_IMAGE_ID: NAPP 9182 28
SOURCE_IMAGE_DATE: 1997 09 09
SOURCE_IMAGE_ID: NAPP 9181 252
SOURCE_IMAGE_DATE: 1997 09 09
SOURCE_DEM_DATE: 2001 01 01
AGENCY: WESTERN MAPPING CENTER (WMC)
PRODUCER: ANALYTICAL SURVEYS INC.
PRODUCTION_SYSTEM: ORBIT OR_RECTIFY V.5.2
COMPRESSION: UNDEFINED
STANDARD_VERSION: 1996 12
METADATA_DATE: 2001 04 13
DATA_FILE_SIZE: 42003990
BYTE_COUNT: 5490
