FILENAME: O4711148.NWS.727309.tif
QUADRANGLE_NAME: MAHONEY HILL
QUADRANT: NW
WEST_LONGITUDE: -111 7 30.00000
EAST_LONGITUDE: -111 3 45.00000
NORTH_LATITUDE: 47 22 30.00000
SOUTH_LATITUDE: 47 18 45.00000
PRODUCTION_DATE: 1997 8 4
RASTER_ORDER: LEFT_RIGHT/TOP_BOTTOM
BAND_ORGANIZATION: SINGLE FILE
BAND_CONTENT: BLACK&WHITE
BAND_CONTENT: UNDEFINED
BAND_CONTENT: UNDEFINED
BITS_PER_PIXEL: 8
SAMPLES_AND_LINES: 5389 7556
HORIZONTAL_DATUM: NAD83
HORIZONTAL_COORDINATE_SYSTEM: UTM
COORDINATE_ZONE: 12
HORIZONTAL_UNITS: METERS
HORIZONTAL_RESOLUTION: 1.00000
SECONDARY_HORIZONTAL_DATUM: NAD27
XY_ORIGIN: 490192.87200 5247144.94500
SECONDARY_XY_ORIGIN: 490252.83500 5246930.50600
NATION: US
STATE: MT
NW_QUAD_CORNER_XY: 490563.49900 5246845.44500
NE_QUAD_CORNER_XY: 495281.74900 5246839.76500
SE_QUAD_CORNERY_XY: 495276.17700 5239893.94800
SW_QUAD_CORNER_XY: 490552.35500 5239899.63000
SECONDARY_NW_QUAD_XY: 490563.20600 5246626.75600
SECONDARY_NE_QUAD_XY: 495281.60300 5246621.07500
SECONDARY_SE_QUAD_XY: 495276.03100 5239675.28200
SECONDARY_SW_QUAD_XY: 490552.06200 5239680.96400
RMSE_XY: 2.10000
IMAGE_SOURCE: BLACK AND WHITE FILM
SOURCE_IMAGE_ID: NAPP 8372 53
SOURCE_IMAGE_DATE: 1995 7 8
SOURCE_DEM_DATE: 1997 8 4
AGENCY: WESTERN MAPPING CENTER (WMC)
PRODUCER: Nies Mapping Group
PRODUCTION_SYSTEM: INTERGRAPH- ISPM,ISIR
COMPRESSION: UNDEFINED
STANDARD_VERSION: 1996 12
METADATA_DATE: 1997 12 28
DATA_FILE_SIZE: 40724673
BYTE_COUNT: 5389
