FILENAME: O4711148.SWS.727311.tif
QUADRANGLE_NAME: MAHONEY HILL
QUADRANT: SW
WEST_LONGITUDE: -111 7 30.00000
EAST_LONGITUDE: -111 3 45.00000
NORTH_LATITUDE: 47 18 45.00000
SOUTH_LATITUDE: 47 15 0.00000
PRODUCTION_DATE: 1997 8 4
RASTER_ORDER: LEFT_RIGHT/TOP_BOTTOM
BAND_ORGANIZATION: SINGLE FILE
BAND_CONTENT: BLACK&WHITE
BAND_CONTENT: UNDEFINED
BAND_CONTENT: UNDEFINED
BITS_PER_PIXEL: 8
SAMPLES_AND_LINES: 5395 7556
HORIZONTAL_DATUM: NAD83
HORIZONTAL_COORDINATE_SYSTEM: UTM
COORDINATE_ZONE: 12
HORIZONTAL_UNITS: METERS
HORIZONTAL_RESOLUTION: 1.00000
SECONDARY_HORIZONTAL_DATUM: NAD27
XY_ORIGIN: 490182.00600 5240199.13000
SECONDARY_XY_ORIGIN: 490241.70200 5239984.84300
NATION: US
STATE: MT
NW_QUAD_CORNER_XY: 490552.35500 5239899.63000
NE_QUAD_CORNER_XY: 495276.17700 5239893.94800
SE_QUAD_CORNERY_XY: 495270.61100 5232948.20700
SW_QUAD_CORNER_XY: 490541.22200 5232953.89000
SECONDARY_NW_QUAD_XY: 490552.06200 5239680.96400
SECONDARY_NE_QUAD_XY: 495276.03100 5239675.28200
SECONDARY_SE_QUAD_XY: 495270.46400 5232729.56600
SECONDARY_SW_QUAD_XY: 490540.92900 5232735.24900
RMSE_XY: 2.60000
IMAGE_SOURCE: BLACK AND WHITE FILM
SOURCE_IMAGE_ID: NAPP 8372 55
SOURCE_IMAGE_DATE: 1995 7 8
SOURCE_DEM_DATE: 1997 8 4
AGENCY: WESTERN MAPPING CENTER (WMC)
PRODUCER: Nies Mapping Group
PRODUCTION_SYSTEM: INTERGRAPH- ISPM,ISIR
COMPRESSION: UNDEFINED
STANDARD_VERSION: 1996 12
METADATA_DATE: 1997 12 28
DATA_FILE_SIZE: 40770015
BYTE_COUNT: 5395
