FILENAME: O4711147.NES.727320.tif
QUADRANGLE_NAME: STOCKETT
QUADRANT: NE
WEST_LONGITUDE: -111 11 15.00000
EAST_LONGITUDE: -111 7 30.00000
NORTH_LATITUDE: 47 22 30.00000
SOUTH_LATITUDE: 47 18 45.00000
PRODUCTION_DATE: 1997 7 31
RASTER_ORDER: LEFT_RIGHT/TOP_BOTTOM
BAND_ORGANIZATION: SINGLE FILE
BAND_CONTENT: BLACK&WHITE
BAND_CONTENT: UNDEFINED
BAND_CONTENT: UNDEFINED
BITS_PER_PIXEL: 8
SAMPLES_AND_LINES: 5395 7560
HORIZONTAL_DATUM: NAD83
HORIZONTAL_COORDINATE_SYSTEM: UTM
COORDINATE_ZONE: 12
HORIZONTAL_UNITS: METERS
HORIZONTAL_RESOLUTION: 1.00000
SECONDARY_HORIZONTAL_DATUM: NAD27
XY_ORIGIN: 485468.98400 5247154.41300
SECONDARY_XY_ORIGIN: 485528.87500 5246940.18000
NATION: US
STATE: MT
NW_QUAD_CORNER_XY: 485845.25000 5246854.91300
NE_QUAD_CORNER_XY: 490563.49900 5246845.44500
SE_QUAD_CORNERY_XY: 490552.35500 5239899.63000
SW_QUAD_CORNER_XY: 485828.53400 5239909.09900
SECONDARY_NW_QUAD_XY: 485844.81000 5246636.22400
SECONDARY_NE_QUAD_XY: 490563.20600 5246626.75600
SECONDARY_SE_QUAD_XY: 490552.06200 5239680.96400
SECONDARY_SW_QUAD_XY: 485828.09400 5239690.43300
RMSE_XY: 2.80000
IMAGE_SOURCE: BLACK AND WHITE FILM
SOURCE_IMAGE_ID: NAPP 8372 60
SOURCE_IMAGE_DATE: 1995 7 8
SOURCE_DEM_DATE: 1997 7 31
AGENCY: WESTERN MAPPING CENTER (WMC)
PRODUCER: Nies Mapping Group
PRODUCTION_SYSTEM: INTERGRAPH- ISPM,ISIR
COMPRESSION: UNDEFINED
STANDARD_VERSION: 1996 12
METADATA_DATE: 1997 12 28
DATA_FILE_SIZE: 40791595
BYTE_COUNT: 5395
