FILENAME: O4711147.SES.727322.tif
QUADRANGLE_NAME: STOCKETT
QUADRANT: SE
WEST_LONGITUDE: -111 11 15.00000
EAST_LONGITUDE: -111 7 30.00000
NORTH_LATITUDE: 47 18 45.00000
SOUTH_LATITUDE: 47 15 0.00000
PRODUCTION_DATE: 1997 7 31
RASTER_ORDER: LEFT_RIGHT/TOP_BOTTOM
BAND_ORGANIZATION: SINGLE FILE
BAND_CONTENT: BLACK&WHITE
BAND_CONTENT: UNDEFINED
BAND_CONTENT: UNDEFINED
BITS_PER_PIXEL: 8
SAMPLES_AND_LINES: 5400 7560
HORIZONTAL_DATUM: NAD83
HORIZONTAL_COORDINATE_SYSTEM: UTM
COORDINATE_ZONE: 12
HORIZONTAL_UNITS: METERS
HORIZONTAL_RESOLUTION: 1.00000
SECONDARY_HORIZONTAL_DATUM: NAD27
XY_ORIGIN: 485452.55800 5240208.59900
SECONDARY_XY_ORIGIN: 485512.17500 5239994.48400
NATION: US
STATE: MT
NW_QUAD_CORNER_XY: 485828.53400 5239909.09900
NE_QUAD_CORNER_XY: 490552.35500 5239899.63000
SE_QUAD_CORNERY_XY: 490541.22200 5232953.89000
SW_QUAD_CORNER_XY: 485811.83400 5232963.36100
SECONDARY_NW_QUAD_XY: 485828.09400 5239690.43300
SECONDARY_NE_QUAD_XY: 490552.06200 5239680.96400
SECONDARY_SE_QUAD_XY: 490540.92900 5232735.24900
SECONDARY_SW_QUAD_XY: 485811.39400 5232744.72000
RMSE_XY: 2.10000
IMAGE_SOURCE: BLACK AND WHITE FILM
SOURCE_IMAGE_ID: NAPP 8372 58
SOURCE_IMAGE_DATE: 1995 7 8
SOURCE_DEM_DATE: 1997 7 31
AGENCY: WESTERN MAPPING CENTER (WMC)
PRODUCER: Nies Mapping Group
PRODUCTION_SYSTEM: INTERGRAPH- ISPM,ISIR
COMPRESSION: UNDEFINED
STANDARD_VERSION: 1996 12
METADATA_DATE: 1997 12 28
DATA_FILE_SIZE: 40829400
BYTE_COUNT: 5400
