FILENAME: O4711147.SWS.727323.tif
QUADRANGLE_NAME: STOCKETT
QUADRANT: SW
WEST_LONGITUDE: -111 15 0.00000
EAST_LONGITUDE: -111 11 15.00000
NORTH_LATITUDE: 47 18 45.00000
SOUTH_LATITUDE: 47 15 0.00000
PRODUCTION_DATE: 1997 7 31
RASTER_ORDER: LEFT_RIGHT/TOP_BOTTOM
BAND_ORGANIZATION: SINGLE FILE
BAND_CONTENT: BLACK&WHITE
BAND_CONTENT: UNDEFINED
BAND_CONTENT: UNDEFINED
BITS_PER_PIXEL: 8
SAMPLES_AND_LINES: 5406 7564
HORIZONTAL_DATUM: NAD83
HORIZONTAL_COORDINATE_SYSTEM: UTM
COORDINATE_ZONE: 12
HORIZONTAL_UNITS: METERS
HORIZONTAL_RESOLUTION: 1.00000
SECONDARY_HORIZONTAL_DATUM: NAD27
XY_ORIGIN: 480723.11200 5240221.85600
SECONDARY_XY_ORIGIN: 480782.65500 5240007.90200
NATION: US
STATE: MT
NW_QUAD_CORNER_XY: 481104.71400 5239922.35600
NE_QUAD_CORNER_XY: 485828.53400 5239909.09900
SE_QUAD_CORNERY_XY: 485811.83400 5232963.36100
SW_QUAD_CORNER_XY: 481082.44700 5232976.62000
SECONDARY_NW_QUAD_XY: 481104.12700 5239703.69100
SECONDARY_NE_QUAD_XY: 485828.09400 5239690.43300
SECONDARY_SE_QUAD_XY: 485811.39400 5232744.72000
SECONDARY_SW_QUAD_XY: 481081.86100 5232757.98000
RMSE_XY: 2.00000
IMAGE_SOURCE: BLACK AND WHITE FILM
SOURCE_IMAGE_ID: NAPP 8372 105
SOURCE_IMAGE_DATE: 1995 7 8
SOURCE_DEM_DATE: 1997 7 31
AGENCY: WESTERN MAPPING CENTER (WMC)
PRODUCER: Nies Mapping Group
PRODUCTION_SYSTEM: INTERGRAPH- ISPM,ISIR
COMPRESSION: UNDEFINED
STANDARD_VERSION: 1996 12
METADATA_DATE: 1997 12 28
DATA_FILE_SIZE: 40896390
BYTE_COUNT: 5406
