FILENAME: O4711146.NES.727340.tif
QUADRANGLE_NAME: EDEN
QUADRANT: NE
WEST_LONGITUDE: -111 18 45.00000
EAST_LONGITUDE: -111 15 0.00000
NORTH_LATITUDE: 47 22 30.00000
SOUTH_LATITUDE: 47 18 45.00000
PRODUCTION_DATE: 1997 8 1
RASTER_ORDER: LEFT_RIGHT/TOP_BOTTOM
BAND_ORGANIZATION: SINGLE FILE
BAND_CONTENT: BLACK&WHITE
BAND_CONTENT: UNDEFINED
BAND_CONTENT: UNDEFINED
BITS_PER_PIXEL: 8
SAMPLES_AND_LINES: 5406 7568
HORIZONTAL_DATUM: NAD83
HORIZONTAL_COORDINATE_SYSTEM: UTM
COORDINATE_ZONE: 12
HORIZONTAL_UNITS: METERS
HORIZONTAL_RESOLUTION: 1.00000
SECONDARY_HORIZONTAL_DATUM: NAD27
XY_ORIGIN: 476021.13100 5247184.70900
SECONDARY_XY_ORIGIN: 476080.87300 5246970.66200
NATION: US
STATE: MT
NW_QUAD_CORNER_XY: 476408.75600 5246885.20900
NE_QUAD_CORNER_XY: 481127.00200 5246868.16800
SE_QUAD_CORNERY_XY: 481104.71400 5239922.35600
SW_QUAD_CORNER_XY: 476380.89500 5239939.40100
SECONDARY_NW_QUAD_XY: 476408.02300 5246666.52100
SECONDARY_NE_QUAD_XY: 481126.41600 5246649.47900
SECONDARY_SE_QUAD_XY: 481104.12700 5239703.69100
SECONDARY_SW_QUAD_XY: 476380.16300 5239720.73600
RMSE_XY: 1.40000
IMAGE_SOURCE: BLACK AND WHITE FILM
SOURCE_IMAGE_ID: NAPP 8372 110
SOURCE_IMAGE_DATE: 1995 7 8
SOURCE_DEM_DATE: 1997 8 1
AGENCY: WESTERN MAPPING CENTER (WMC)
PRODUCER: Nies Mapping Group
PRODUCTION_SYSTEM: INTERGRAPH- ISPM,ISIR
COMPRESSION: UNDEFINED
STANDARD_VERSION: 1996 12
METADATA_DATE: 1997 12 28
DATA_FILE_SIZE: 40918014
BYTE_COUNT: 5406
