FILENAME: O4711146.SES.727342.tif
QUADRANGLE_NAME: EDEN
QUADRANT: SE
WEST_LONGITUDE: -111 18 45.00000
EAST_LONGITUDE: -111 15 0.00000
NORTH_LATITUDE: 47 18 45.00000
SOUTH_LATITUDE: 47 15 0.00000
PRODUCTION_DATE: 1997 8 1
RASTER_ORDER: LEFT_RIGHT/TOP_BOTTOM
BAND_ORGANIZATION: SINGLE FILE
BAND_CONTENT: BLACK&WHITE
BAND_CONTENT: UNDEFINED
BAND_CONTENT: UNDEFINED
BITS_PER_PIXEL: 8
SAMPLES_AND_LINES: 5412 7568
HORIZONTAL_DATUM: NAD83
HORIZONTAL_COORDINATE_SYSTEM: UTM
COORDINATE_ZONE: 12
HORIZONTAL_UNITS: METERS
HORIZONTAL_RESOLUTION: 1.00000
SECONDARY_HORIZONTAL_DATUM: NAD27
XY_ORIGIN: 475993.50400 5240238.90100
SECONDARY_XY_ORIGIN: 476053.04500 5240024.96700
NATION: US
STATE: MT
NW_QUAD_CORNER_XY: 476380.89500 5239939.40100
NE_QUAD_CORNER_XY: 481104.71400 5239922.35600
SE_QUAD_CORNERY_XY: 481082.44700 5232976.62000
SW_QUAD_CORNER_XY: 476353.06300 5232993.66800
SECONDARY_NW_QUAD_XY: 476380.16300 5239720.73600
SECONDARY_NE_QUAD_XY: 481104.12700 5239703.69100
SECONDARY_SE_QUAD_XY: 481081.86100 5232757.98000
SECONDARY_SW_QUAD_XY: 476352.33000 5232775.02800
RMSE_XY: 1.20000
IMAGE_SOURCE: BLACK AND WHITE FILM
SOURCE_IMAGE_ID: NAPP 8372 108
SOURCE_IMAGE_DATE: 1995 7 8
SOURCE_DEM_DATE: 1997 8 1
AGENCY: WESTERN MAPPING CENTER (WMC)
PRODUCER: Nies Mapping Group
PRODUCTION_SYSTEM: INTERGRAPH- ISPM,ISIR
COMPRESSION: UNDEFINED
STANDARD_VERSION: 1996 12
METADATA_DATE: 1997 12 28
DATA_FILE_SIZE: 40963428
BYTE_COUNT: 5412
