FILENAME: O4711146.SWS.727343.tif
QUADRANGLE_NAME: EDEN
QUADRANT: SW
WEST_LONGITUDE: -111 22 30.00000
EAST_LONGITUDE: -111 18 45.00000
NORTH_LATITUDE: 47 18 45.00000
SOUTH_LATITUDE: 47 15 0.00000
PRODUCTION_DATE: 1997 8 1
RASTER_ORDER: LEFT_RIGHT/TOP_BOTTOM
BAND_ORGANIZATION: SINGLE FILE
BAND_CONTENT: BLACK&WHITE
BAND_CONTENT: UNDEFINED
BAND_CONTENT: UNDEFINED
BITS_PER_PIXEL: 8
SAMPLES_AND_LINES: 5417 7571
HORIZONTAL_DATUM: NAD83
HORIZONTAL_COORDINATE_SYSTEM: UTM
COORDINATE_ZONE: 12
HORIZONTAL_UNITS: METERS
HORIZONTAL_RESOLUTION: 1.00000
SECONDARY_HORIZONTAL_DATUM: NAD27
XY_ORIGIN: 471263.89800 5240259.73300
SECONDARY_XY_ORIGIN: 471323.43800 5240045.81800
NATION: US
STATE: MT
NW_QUAD_CORNER_XY: 471657.07900 5239960.23300
NE_QUAD_CORNER_XY: 476380.89500 5239939.40100
SE_QUAD_CORNERY_XY: 476353.06300 5232993.66800
SW_QUAD_CORNER_XY: 471623.68000 5233014.50400
SECONDARY_NW_QUAD_XY: 471656.20000 5239741.56900
SECONDARY_NE_QUAD_XY: 476380.16300 5239720.73600
SECONDARY_SE_QUAD_XY: 476352.33000 5232775.02800
SECONDARY_SW_QUAD_XY: 471622.80100 5232795.86500
RMSE_XY: 0.90000
IMAGE_SOURCE: BLACK AND WHITE FILM
SOURCE_IMAGE_ID: NAPP 8372 155
SOURCE_IMAGE_DATE: 1995 7 8
SOURCE_DEM_DATE: 1997 8 1
AGENCY: WESTERN MAPPING CENTER (WMC)
PRODUCER: Nies Mapping Group
PRODUCTION_SYSTEM: INTERGRAPH- ISPM,ISIR
COMPRESSION: UNDEFINED
STANDARD_VERSION: 1996 12
METADATA_DATE: 1997 12 28
DATA_FILE_SIZE: 41017524
BYTE_COUNT: 5417
