FILENAME: O4711145.NWS.956517.tif
QUADRANGLE_NAME: TRULY
QUADRANT: NW
WEST_LONGITUDE: -111 30 0.00000
EAST_LONGITUDE: -111 26 15.00000
NORTH_LATITUDE: 47 22 30.00000
SOUTH_LATITUDE: 47 18 45.00000
PRODUCTION_DATE: 1998 12 31
RASTER_ORDER: LEFT_RIGHT/TOP_BOTTOM
BAND_ORGANIZATION: SINGLE FILE
BAND_CONTENT: BLACK&WHITE
BAND_CONTENT: UNDEFINED
BAND_CONTENT: UNDEFINED
BITS_PER_PIXEL: 8
SAMPLES_AND_LINES: 5460 7590
HORIZONTAL_DATUM: NAD83
HORIZONTAL_COORDINATE_SYSTEM: UTM
COORDINATE_ZONE: 12
HORIZONTAL_UNITS: METERS
HORIZONTAL_RESOLUTION: 1.00000
SECONDARY_HORIZONTAL_DATUM: NAD27
XY_ORIGIN: 461820.00000 5247270.00000
SECONDARY_XY_ORIGIN: 461879.53600 5247055.94200
NATION: US
STATE: MT
NW_QUAD_CORNER_XY: 462254.03400 5246959.05700
NE_QUAD_CORNER_XY: 466972.27200 5246930.65400
SE_QUAD_CORNERY_XY: 466933.26600 5239984.85300
SW_QUAD_CORNER_XY: 462209.45600 5240013.26100
SECONDARY_NW_QUAD_XY: 462252.86100 5246740.37100
SECONDARY_NE_QUAD_XY: 466971.24600 5246711.96700
SECONDARY_SE_QUAD_XY: 466932.24000 5239766.19000
SECONDARY_SW_QUAD_XY: 462208.28300 5239794.59900
RMSE_XY: 0.91000
IMAGE_SOURCE: BLACK AND WHITE FILM
SOURCE_IMAGE_ID: NAPP 8373 39
SOURCE_IMAGE_DATE: 1995 08 09
SOURCE_DEM_DATE: 1998 01 01
AGENCY: WESTERN MAPPING CENTER (WMC)
PRODUCER: ANALYTICAL SURVEYS INC.
PRODUCTION_SYSTEM: ORBIT OR_RECTIFY V.5.2
COMPRESSION: UNDEFINED
STANDARD_VERSION: 1996 12
METADATA_DATE: 1999 01 05
DATA_FILE_SIZE: 41446860
BYTE_COUNT: 5460
