FILENAME: O4711145.SES.956518.tif
QUADRANGLE_NAME: TRULY
QUADRANT: SE
WEST_LONGITUDE: -111 26 15.00000
EAST_LONGITUDE: -111 22 30.00000
NORTH_LATITUDE: 47 18 45.00000
SOUTH_LATITUDE: 47 15 0.00000
PRODUCTION_DATE: 1999 01 04
RASTER_ORDER: LEFT_RIGHT/TOP_BOTTOM
BAND_ORGANIZATION: SINGLE FILE
BAND_CONTENT: BLACK&WHITE
BAND_CONTENT: UNDEFINED
BAND_CONTENT: UNDEFINED
BITS_PER_PIXEL: 8
SAMPLES_AND_LINES: 5430 7620
HORIZONTAL_DATUM: NAD83
HORIZONTAL_COORDINATE_SYSTEM: UTM
COORDINATE_ZONE: 12
HORIZONTAL_UNITS: METERS
HORIZONTAL_RESOLUTION: 1.00000
SECONDARY_HORIZONTAL_DATUM: NAD27
XY_ORIGIN: 466530.00000 5240310.00000
SECONDARY_XY_ORIGIN: 466589.56300 5240096.11100
NATION: US
STATE: MT
NW_QUAD_CORNER_XY: 466933.26600 5239984.85300
NE_QUAD_CORNER_XY: 471657.07900 5239960.23200
SE_QUAD_CORNERY_XY: 471623.68000 5233014.50300
SW_QUAD_CORNER_XY: 466894.30000 5233039.12800
SECONDARY_NW_QUAD_XY: 466932.24000 5239766.19000
SECONDARY_NE_QUAD_XY: 471656.20000 5239741.56900
SECONDARY_SE_QUAD_XY: 471622.80100 5232795.86400
SECONDARY_SW_QUAD_XY: 466893.27400 5232820.48900
RMSE_XY: 1.62000
IMAGE_SOURCE: BLACK AND WHITE FILM
SOURCE_IMAGE_ID: NAPP 8372 158
SOURCE_IMAGE_DATE: 1995 07 08
SOURCE_IMAGE_ID: NAPP 8372 160
SOURCE_IMAGE_DATE: 1995 07 08
SOURCE_DEM_DATE: 1998 01 01
AGENCY: WESTERN MAPPING CENTER (WMC)
PRODUCER: ANALYTICAL SURVEYS INC.
PRODUCTION_SYSTEM: ORBIT OR_RECTIFY V.5.2
COMPRESSION: UNDEFINED
STANDARD_VERSION: 1996 12
METADATA_DATE: 1999 01 05
DATA_FILE_SIZE: 41382030
BYTE_COUNT: 5430
