FILENAME: O4711145.SWS.956519.tif
QUADRANGLE_NAME: TRULY
QUADRANT: SW
WEST_LONGITUDE: -111 30 0.00000
EAST_LONGITUDE: -111 26 15.00000
NORTH_LATITUDE: 47 18 45.00000
SOUTH_LATITUDE: 47 15 0.00000
PRODUCTION_DATE: 1998 12 31
RASTER_ORDER: LEFT_RIGHT/TOP_BOTTOM
BAND_ORGANIZATION: SINGLE FILE
BAND_CONTENT: BLACK&WHITE
BAND_CONTENT: UNDEFINED
BAND_CONTENT: UNDEFINED
BITS_PER_PIXEL: 8
SAMPLES_AND_LINES: 5460 7620
HORIZONTAL_DATUM: NAD83
HORIZONTAL_COORDINATE_SYSTEM: UTM
COORDINATE_ZONE: 12
HORIZONTAL_UNITS: METERS
HORIZONTAL_RESOLUTION: 1.00000
SECONDARY_HORIZONTAL_DATUM: NAD27
XY_ORIGIN: 461790.00000 5240340.00000
SECONDARY_XY_ORIGIN: 461849.56200 5240126.13000
NATION: US
STATE: MT
NW_QUAD_CORNER_XY: 462209.45600 5240013.26100
NE_QUAD_CORNER_XY: 466933.26600 5239984.85300
SE_QUAD_CORNERY_XY: 466894.30000 5233039.12800
SW_QUAD_CORNER_XY: 462164.92300 5233067.54100
SECONDARY_NW_QUAD_XY: 462208.28300 5239794.59900
SECONDARY_NE_QUAD_XY: 466932.24000 5239766.19000
SECONDARY_SE_QUAD_XY: 466893.27400 5232820.48900
SECONDARY_SW_QUAD_XY: 462163.75000 5232848.90300
RMSE_XY: 1.25000
IMAGE_SOURCE: BLACK AND WHITE FILM
SOURCE_IMAGE_ID: NAPP 8373 41
SOURCE_IMAGE_DATE: 1995 08 09
SOURCE_DEM_DATE: 1998 01 01
AGENCY: WESTERN MAPPING CENTER (WMC)
PRODUCER: ANALYTICAL SURVEYS INC.
PRODUCTION_SYSTEM: ORBIT OR_RECTIFY V.5.2
COMPRESSION: UNDEFINED
STANDARD_VERSION: 1996 12
METADATA_DATE: 1999 01 05
DATA_FILE_SIZE: 41610660
BYTE_COUNT: 5460
