FILENAME: O4711144.SWS.956515.tif
QUADRANGLE_NAME: NELSON ISLAND
QUADRANT: SW
WEST_LONGITUDE: -111 37 30.00000
EAST_LONGITUDE: -111 33 45.00000
NORTH_LATITUDE: 47 18 45.00000
SOUTH_LATITUDE: 47 15 0.00000
PRODUCTION_DATE: 1998 12 31
RASTER_ORDER: LEFT_RIGHT/TOP_BOTTOM
BAND_ORGANIZATION: SINGLE FILE
BAND_CONTENT: BLACK&WHITE
BAND_CONTENT: UNDEFINED
BAND_CONTENT: UNDEFINED
BITS_PER_PIXEL: 8
SAMPLES_AND_LINES: 5460 7620
HORIZONTAL_DATUM: NAD83
HORIZONTAL_COORDINATE_SYSTEM: UTM
COORDINATE_ZONE: 12
HORIZONTAL_UNITS: METERS
HORIZONTAL_RESOLUTION: 1.00000
SECONDARY_HORIZONTAL_DATUM: NAD27
XY_ORIGIN: 452340.00000 5240400.00000
SECONDARY_XY_ORIGIN: 452399.85100 5240186.22200
NATION: US
STATE: MT
NW_QUAD_CORNER_XY: 452761.84600 5240081.44200
NE_QUAD_CORNER_XY: 457485.64900 5240045.45700
SE_QUAD_CORNERY_XY: 457435.54900 5233099.74300
SW_QUAD_CORNER_XY: 452706.17900 5233135.73300
SECONDARY_NW_QUAD_XY: 452760.38100 5239862.78200
SECONDARY_NE_QUAD_XY: 457484.33000 5239826.79600
SECONDARY_SE_QUAD_XY: 457434.23000 5232881.10600
SECONDARY_SW_QUAD_XY: 452704.71400 5232917.09800
RMSE_XY: 0.88000
IMAGE_SOURCE: BLACK AND WHITE FILM
SOURCE_IMAGE_ID: NAPP 8373 91
SOURCE_IMAGE_DATE: 1995 08 09
SOURCE_DEM_DATE: 1975 00 00
AGENCY: WESTERN MAPPING CENTER (WMC)
PRODUCER: ANALYTICAL SURVEYS INC.
PRODUCTION_SYSTEM: ORBIT OR_RECTIFY V.5.2
COMPRESSION: UNDEFINED
STANDARD_VERSION: 1996 12
METADATA_DATE: 1999 01 05
DATA_FILE_SIZE: 41610660
BYTE_COUNT: 5460
