FILENAME: O4711143.SES.956510.tif
QUADRANGLE_NAME: CASCADE
QUADRANT: SE
WEST_LONGITUDE: -111 41 15.00000
EAST_LONGITUDE: -111 37 30.00000
NORTH_LATITUDE: 47 18 45.00000
SOUTH_LATITUDE: 47 15 0.00000
PRODUCTION_DATE: 1998 12 31
RASTER_ORDER: LEFT_RIGHT/TOP_BOTTOM
BAND_ORGANIZATION: SINGLE FILE
BAND_CONTENT: BLACK&WHITE
BAND_CONTENT: UNDEFINED
BAND_CONTENT: UNDEFINED
BITS_PER_PIXEL: 8
SAMPLES_AND_LINES: 5490 7620
HORIZONTAL_DATUM: NAD83
HORIZONTAL_COORDINATE_SYSTEM: UTM
COORDINATE_ZONE: 12
HORIZONTAL_UNITS: METERS
HORIZONTAL_RESOLUTION: 1.00000
SECONDARY_HORIZONTAL_DATUM: NAD27
XY_ORIGIN: 447600.00000 5240430.00000
SECONDARY_XY_ORIGIN: 447660.00000 5240216.27300
NATION: US
STATE: MT
NW_QUAD_CORNER_XY: 448038.04800 5240121.21400
NE_QUAD_CORNER_XY: 452761.84600 5240081.44200
SE_QUAD_CORNERY_XY: 452706.17900 5233135.73300
SW_QUAD_CORNER_XY: 447976.81400 5233175.51200
SECONDARY_NW_QUAD_XY: 448036.43600 5239902.55500
SECONDARY_NE_QUAD_XY: 452760.38100 5239862.78200
SECONDARY_SE_QUAD_XY: 452704.71400 5232917.09800
SECONDARY_SW_QUAD_XY: 447975.20200 5232956.87800
RMSE_XY: 1.28000
IMAGE_SOURCE: BLACK AND WHITE FILM
SOURCE_IMAGE_ID: NAPP 8373 94
SOURCE_IMAGE_DATE: 1995 08 09
SOURCE_DEM_DATE: 1983 00 00
AGENCY: WESTERN MAPPING CENTER (WMC)
PRODUCER: ANALYTICAL SURVEYS INC.
PRODUCTION_SYSTEM: ORBIT OR_RECTIFY V.5.2
COMPRESSION: UNDEFINED
STANDARD_VERSION: 1996 12
METADATA_DATE: 1999 01 05
DATA_FILE_SIZE: 41839290
BYTE_COUNT: 5490
