FILENAME: O4711143.SWS.956511.tif
QUADRANGLE_NAME: CASCADE
QUADRANT: SW
WEST_LONGITUDE: -111 45 0.00000
EAST_LONGITUDE: -111 41 15.00000
NORTH_LATITUDE: 47 18 45.00000
SOUTH_LATITUDE: 47 15 0.00000
PRODUCTION_DATE: 1998 12 31
RASTER_ORDER: LEFT_RIGHT/TOP_BOTTOM
BAND_ORGANIZATION: SINGLE FILE
BAND_CONTENT: BLACK&WHITE
BAND_CONTENT: UNDEFINED
BAND_CONTENT: UNDEFINED
BITS_PER_PIXEL: 8
SAMPLES_AND_LINES: 5490 7620
HORIZONTAL_DATUM: NAD83
HORIZONTAL_COORDINATE_SYSTEM: UTM
COORDINATE_ZONE: 12
HORIZONTAL_UNITS: METERS
HORIZONTAL_RESOLUTION: 1.00000
SECONDARY_HORIZONTAL_DATUM: NAD27
XY_ORIGIN: 442860.00000 5240490.00000
SECONDARY_XY_ORIGIN: 442920.14900 5240276.32200
NATION: US
STATE: MT
NW_QUAD_CORNER_XY: 443314.25500 5240164.77500
NE_QUAD_CORNER_XY: 448038.04800 5240121.21400
SE_QUAD_CORNERY_XY: 447976.81400 5233175.51200
SW_QUAD_CORNER_XY: 443247.45300 5233219.08000
SECONDARY_NW_QUAD_XY: 443312.49600 5239946.11700
SECONDARY_NE_QUAD_XY: 448036.43600 5239902.55500
SECONDARY_SE_QUAD_XY: 447975.20200 5232956.87800
SECONDARY_SW_QUAD_XY: 443245.69500 5233000.44700
RMSE_XY: 1.49000
IMAGE_SOURCE: BLACK AND WHITE FILM
SOURCE_IMAGE_ID: NAPP 8373 140
SOURCE_IMAGE_DATE: 1995 08 09
SOURCE_IMAGE_ID: NAPP 8373 138
SOURCE_IMAGE_DATE: 1995 08 09
SOURCE_DEM_DATE: 1983 00 00
AGENCY: WESTERN MAPPING CENTER (WMC)
PRODUCER: ANALYTICAL SURVEYS INC.
PRODUCTION_SYSTEM: ORBIT OR_RECTIFY V.5.2
COMPRESSION: UNDEFINED
STANDARD_VERSION: 1996 12
METADATA_DATE: 1999 01 05
DATA_FILE_SIZE: 41839290
BYTE_COUNT: 5490
