FILENAME: O4711141.NWS.956567.tif
QUADRANGLE_NAME: TELEGRAPH MOUNTAIN
QUADRANT: NW
WEST_LONGITUDE: -112 0 0.00000
EAST_LONGITUDE: -111 56 15.00000
NORTH_LATITUDE: 47 22 30.00000
SOUTH_LATITUDE: 47 18 45.00000
PRODUCTION_DATE: 1998 12 29
RASTER_ORDER: LEFT_RIGHT/TOP_BOTTOM
BAND_ORGANIZATION: SINGLE FILE
BAND_CONTENT: BLACK&WHITE
BAND_CONTENT: UNDEFINED
BAND_CONTENT: UNDEFINED
BITS_PER_PIXEL: 8
SAMPLES_AND_LINES: 5490 7620
HORIZONTAL_DATUM: NAD83
HORIZONTAL_COORDINATE_SYSTEM: UTM
COORDINATE_ZONE: 12
HORIZONTAL_UNITS: METERS
HORIZONTAL_RESOLUTION: 1.00000
SECONDARY_HORIZONTAL_DATUM: NAD27
XY_ORIGIN: 424050.00000 5247630.00000
SECONDARY_XY_ORIGIN: 424110.55500 5247416.30000
NATION: US
STATE: MT
NW_QUAD_CORNER_XY: 424508.30200 5247322.63300
NE_QUAD_CORNER_XY: 429226.49700 5247263.92900
SE_QUAD_CORNERY_XY: 429142.90800 5240318.18600
SW_QUAD_CORNER_XY: 424419.13900 5240376.90100
SECONDARY_NW_QUAD_XY: 424505.95700 5247103.95800
SECONDARY_NE_QUAD_XY: 429224.29900 5247045.25200
SECONDARY_SE_QUAD_XY: 429140.71000 5240099.53400
SECONDARY_SW_QUAD_XY: 424416.79500 5240158.25000
RMSE_XY: 1.29000
IMAGE_SOURCE: BLACK AND WHITE FILM
SOURCE_IMAGE_ID: NAPP 8373 246
SOURCE_IMAGE_DATE: 1995 08 09
SOURCE_DEM_DATE: 1983 00 00
AGENCY: WESTERN MAPPING CENTER (WMC)
PRODUCER: ANALYTICAL SURVEYS INC.
PRODUCTION_SYSTEM: ORBIT OR_RECTIFY V.5.2
COMPRESSION: UNDEFINED
STANDARD_VERSION: 1996 12
METADATA_DATE: 1999 01 05
DATA_FILE_SIZE: 41839290
BYTE_COUNT: 5490
