FILENAME: O4711140.NES.727304.tif
QUADRANGLE_NAME: FIFE
QUADRANT: NE
WEST_LONGITUDE: -111 3 45.00000
EAST_LONGITUDE: -111 0 0.00000
NORTH_LATITUDE: 47 30 0.00000
SOUTH_LATITUDE: 47 26 15.00000
PRODUCTION_DATE: 1997 8 1
RASTER_ORDER: LEFT_RIGHT/TOP_BOTTOM
BAND_ORGANIZATION: SINGLE FILE
BAND_CONTENT: BLACK&WHITE
BAND_CONTENT: UNDEFINED
BAND_CONTENT: UNDEFINED
BITS_PER_PIXEL: 8
SAMPLES_AND_LINES: 5373 7551
HORIZONTAL_DATUM: NAD83
HORIZONTAL_COORDINATE_SYSTEM: UTM
COORDINATE_ZONE: 12
HORIZONTAL_UNITS: METERS
HORIZONTAL_RESOLUTION: 1.00000
SECONDARY_HORIZONTAL_DATUM: NAD27
XY_ORIGIN: 494927.39400 5261031.12600
SECONDARY_XY_ORIGIN: 494987.91600 5260816.12000
NATION: US
STATE: MT
NW_QUAD_CORNER_XY: 495292.91100 5260731.62600
NE_QUAD_CORNER_XY: 500000.00000 5260729.73400
SE_QUAD_CORNERY_XY: 500000.00000 5253783.76400
SW_QUAD_CORNER_XY: 495287.32700 5253785.65800
SECONDARY_NW_QUAD_XY: 495292.76400 5260512.89200
SECONDARY_NE_QUAD_XY: 500000.00000 5260510.99900
SECONDARY_SE_QUAD_XY: 500000.00000 5253565.05200
SECONDARY_SW_QUAD_XY: 495287.18100 5253566.94500
RMSE_XY: 1.30000
IMAGE_SOURCE: BLACK AND WHITE FILM
SOURCE_IMAGE_ID: NAPP 8373 20
SOURCE_IMAGE_DATE: 1995 8 9
SOURCE_DEM_DATE: 1997 8 1
AGENCY: WESTERN MAPPING CENTER (WMC)
PRODUCER: Nies Mapping Group
PRODUCTION_SYSTEM: INTERGRAPH- ISPM,ISIR
COMPRESSION: UNDEFINED
STANDARD_VERSION: 1996 12
METADATA_DATE: 1997 12 28
DATA_FILE_SIZE: 40576896
BYTE_COUNT: 5373
