FILENAME: O4711140.NWS.727305.tif
QUADRANGLE_NAME: FIFE
QUADRANT: NW
WEST_LONGITUDE: -111 7 30.00000
EAST_LONGITUDE: -111 3 45.00000
NORTH_LATITUDE: 47 30 0.00000
SOUTH_LATITUDE: 47 26 15.00000
PRODUCTION_DATE: 1997 8 1
RASTER_ORDER: LEFT_RIGHT/TOP_BOTTOM
BAND_ORGANIZATION: SINGLE FILE
BAND_CONTENT: BLACK&WHITE
BAND_CONTENT: UNDEFINED
BAND_CONTENT: UNDEFINED
BITS_PER_PIXEL: 8
SAMPLES_AND_LINES: 5379 7556
HORIZONTAL_DATUM: NAD83
HORIZONTAL_COORDINATE_SYSTEM: UTM
COORDINATE_ZONE: 12
HORIZONTAL_UNITS: METERS
HORIZONTAL_RESOLUTION: 1.00000
SECONDARY_HORIZONTAL_DATUM: NAD27
XY_ORIGIN: 490214.64000 5261036.80500
SECONDARY_XY_ORIGIN: 490275.10500 5260822.06900
NATION: US
STATE: MT
NW_QUAD_CORNER_XY: 490585.82200 5260737.30500
NE_QUAD_CORNER_XY: 495292.91100 5260731.62600
SE_QUAD_CORNERY_XY: 495287.32700 5253785.65800
SW_QUAD_CORNER_XY: 490574.65500 5253791.33700
SECONDARY_NW_QUAD_XY: 490585.52900 5260518.57000
SECONDARY_NE_QUAD_XY: 495292.76400 5260512.89200
SECONDARY_SE_QUAD_XY: 495287.18100 5253566.94500
SECONDARY_SW_QUAD_XY: 490574.36200 5253572.62500
RMSE_XY: 1.60000
IMAGE_SOURCE: BLACK AND WHITE FILM
SOURCE_IMAGE_ID: NAPP 8372 49
SOURCE_IMAGE_DATE: 1995 7 8
SOURCE_DEM_DATE: 1997 8 1
AGENCY: WESTERN MAPPING CENTER (WMC)
PRODUCER: Nies Mapping Group
PRODUCTION_SYSTEM: INTERGRAPH- ISPM,ISIR
COMPRESSION: UNDEFINED
STANDARD_VERSION: 1996 12
METADATA_DATE: 1997 12 28
DATA_FILE_SIZE: 40649103
BYTE_COUNT: 5379
