FILENAME: O4711138.NWS.727337.tif
QUADRANGLE_NAME: SOUTHWEST GREAT FALLS
QUADRANT: NW
WEST_LONGITUDE: -111 22 30.00000
EAST_LONGITUDE: -111 18 45.00000
NORTH_LATITUDE: 47 30 0.00000
SOUTH_LATITUDE: 47 26 15.00000
PRODUCTION_DATE: 1997 8 1
RASTER_ORDER: LEFT_RIGHT/TOP_BOTTOM
BAND_ORGANIZATION: SINGLE FILE
BAND_CONTENT: BLACK&WHITE
BAND_CONTENT: UNDEFINED
BAND_CONTENT: UNDEFINED
BITS_PER_PIXEL: 8
SAMPLES_AND_LINES: 5401 7571
HORIZONTAL_DATUM: NAD83
HORIZONTAL_COORDINATE_SYSTEM: UTM
COORDINATE_ZONE: 12
HORIZONTAL_UNITS: METERS
HORIZONTAL_RESOLUTION: 1.00000
SECONDARY_HORIZONTAL_DATUM: NAD27
XY_ORIGIN: 471363.80500 5261097.37600
SECONDARY_XY_ORIGIN: 471423.70600 5260883.05000
NATION: US
STATE: MT
NW_QUAD_CORNER_XY: 471757.48100 5260797.87600
NE_QUAD_CORNER_XY: 476464.56300 5260777.05400
SE_QUAD_CORNERY_XY: 476436.64600 5253831.09400
SW_QUAD_CORNER_XY: 471723.98000 5253851.91900
SECONDARY_NW_QUAD_XY: 471756.60200 5260579.14300
SECONDARY_NE_QUAD_XY: 476463.83000 5260558.32100
SECONDARY_SE_QUAD_XY: 476435.91300 5253612.38300
SECONDARY_SW_QUAD_XY: 471723.10000 5253633.20900
RMSE_XY: 1.10000
IMAGE_SOURCE: BLACK AND WHITE FILM
SOURCE_IMAGE_ID: NAPP 8372 149
SOURCE_IMAGE_DATE: 1995 7 8
SOURCE_DEM_DATE: 1997 8 1
AGENCY: WESTERN MAPPING CENTER (WMC)
PRODUCER: Nies Mapping Group
PRODUCTION_SYSTEM: INTERGRAPH- ISPM,ISIR
COMPRESSION: UNDEFINED
STANDARD_VERSION: 1996 12
METADATA_DATE: 1997 12 30
DATA_FILE_SIZE: 40896372
BYTE_COUNT: 5401
