FILENAME: O4711137.NES.949920.tif
QUADRANGLE_NAME: ANTELOPE BUTTE
QUADRANT: NE
WEST_LONGITUDE: -111 26 15.00000
EAST_LONGITUDE: -111 22 30.00000
NORTH_LATITUDE: 47 30 0.00000
SOUTH_LATITUDE: 47 26 15.00000
PRODUCTION_DATE: 1999 01 02
RASTER_ORDER: LEFT_RIGHT/TOP_BOTTOM
BAND_ORGANIZATION: SINGLE FILE
BAND_CONTENT: BLACK&WHITE
BAND_CONTENT: UNDEFINED
BAND_CONTENT: UNDEFINED
BITS_PER_PIXEL: 8
SAMPLES_AND_LINES: 5430 7590
HORIZONTAL_DATUM: NAD83
HORIZONTAL_COORDINATE_SYSTEM: UTM
COORDINATE_ZONE: 12
HORIZONTAL_UNITS: METERS
HORIZONTAL_RESOLUTION: 1.00000
SECONDARY_HORIZONTAL_DATUM: NAD27
XY_ORIGIN: 466650.00000 5261130.00000
SECONDARY_XY_ORIGIN: 466709.71100 5260915.62400
NATION: US
STATE: MT
NW_QUAD_CORNER_XY: 467050.40200 5260822.48200
NE_QUAD_CORNER_XY: 471757.48100 5260797.87500
SE_QUAD_CORNERY_XY: 471723.98000 5253851.91800
SW_QUAD_CORNER_XY: 467011.31700 5253876.53000
SECONDARY_NW_QUAD_XY: 467049.37600 5260603.75000
SECONDARY_NE_QUAD_XY: 471756.60200 5260579.14300
SECONDARY_SE_QUAD_XY: 471723.10000 5253633.20800
SECONDARY_SW_QUAD_XY: 467010.29100 5253657.82000
RMSE_XY: 0.92000
IMAGE_SOURCE: BLACK AND WHITE FILM
SOURCE_IMAGE_ID: NAPP 8372 164
SOURCE_IMAGE_DATE: 1995 07 08
SOURCE_DEM_DATE: 1990 00 00
AGENCY: WESTERN MAPPING CENTER (WMC)
PRODUCER: ANALYTICAL SURVEYS INC.
PRODUCTION_SYSTEM: ORBIT OR_RECTIFY V.5.2
COMPRESSION: UNDEFINED
STANDARD_VERSION: 1996 12
METADATA_DATE: 1999 01 05
DATA_FILE_SIZE: 41219130
BYTE_COUNT: 5430
