FILENAME: O4711137.SES.949922.tif
QUADRANGLE_NAME: ANTELOPE BUTTE
QUADRANT: SE
WEST_LONGITUDE: -111 26 15.00000
EAST_LONGITUDE: -111 22 30.00000
NORTH_LATITUDE: 47 26 15.00000
SOUTH_LATITUDE: 47 22 30.00000
PRODUCTION_DATE: 1999 01 02
RASTER_ORDER: LEFT_RIGHT/TOP_BOTTOM
BAND_ORGANIZATION: SINGLE FILE
BAND_CONTENT: BLACK&WHITE
BAND_CONTENT: UNDEFINED
BAND_CONTENT: UNDEFINED
BITS_PER_PIXEL: 8
SAMPLES_AND_LINES: 5460 7620
HORIZONTAL_DATUM: NAD83
HORIZONTAL_COORDINATE_SYSTEM: UTM
COORDINATE_ZONE: 12
HORIZONTAL_UNITS: METERS
HORIZONTAL_RESOLUTION: 1.00000
SECONDARY_HORIZONTAL_DATUM: NAD27
XY_ORIGIN: 466590.00000 5254200.00000
SECONDARY_XY_ORIGIN: 466649.66200 5253985.78500
NATION: US
STATE: MT
NW_QUAD_CORNER_XY: 467011.31700 5253876.53000
NE_QUAD_CORNER_XY: 471723.98000 5253851.91800
SE_QUAD_CORNERY_XY: 471690.51300 5246906.03800
SW_QUAD_CORNER_XY: 466972.27200 5246930.65400
SECONDARY_NW_QUAD_XY: 467010.29100 5253657.82000
SECONDARY_NE_QUAD_XY: 471723.10000 5253633.20800
SECONDARY_SE_QUAD_XY: 471689.63300 5246687.35000
SECONDARY_SW_QUAD_XY: 466971.24600 5246711.96700
RMSE_XY: 2.02000
IMAGE_SOURCE: BLACK AND WHITE FILM
SOURCE_IMAGE_ID: NAPP 8372 162
SOURCE_IMAGE_DATE: 1995 07 08
SOURCE_DEM_DATE: 1990 00 00
AGENCY: WESTERN MAPPING CENTER (WMC)
PRODUCER: ANALYTICAL SURVEYS INC.
PRODUCTION_SYSTEM: ORBIT OR_RECTIFY V.5.2
COMPRESSION: UNDEFINED
STANDARD_VERSION: 1996 12
METADATA_DATE: 1999 01 05
DATA_FILE_SIZE: 41610660
BYTE_COUNT: 5460
