FILENAME: O4711136.SWS.949919.tif
QUADRANGLE_NAME: ULM
QUADRANT: SW
WEST_LONGITUDE: -111 37 30.00000
EAST_LONGITUDE: -111 33 45.00000
NORTH_LATITUDE: 47 26 15.00000
SOUTH_LATITUDE: 47 22 30.00000
PRODUCTION_DATE: 1999 01 02
RASTER_ORDER: LEFT_RIGHT/TOP_BOTTOM
BAND_ORGANIZATION: SINGLE FILE
BAND_CONTENT: BLACK&WHITE
BAND_CONTENT: UNDEFINED
BAND_CONTENT: UNDEFINED
BITS_PER_PIXEL: 8
SAMPLES_AND_LINES: 5460 7620
HORIZONTAL_DATUM: NAD83
HORIZONTAL_COORDINATE_SYSTEM: UTM
COORDINATE_ZONE: 12
HORIZONTAL_UNITS: METERS
HORIZONTAL_RESOLUTION: 1.00000
SECONDARY_HORIZONTAL_DATUM: NAD27
XY_ORIGIN: 452430.00000 5254290.00000
SECONDARY_XY_ORIGIN: 452489.73200 5254075.90500
NATION: US
STATE: MT
NW_QUAD_CORNER_XY: 452873.35000 5253973.08500
NE_QUAD_CORNER_XY: 457586.00100 5253937.11300
SE_QUAD_CORNERY_XY: 457535.80000 5246991.24800
SW_QUAD_CORNER_XY: 452817.57000 5247027.22600
SECONDARY_NW_QUAD_XY: 452871.88400 5253754.37800
SECONDARY_NE_QUAD_XY: 457584.68200 5253718.40500
SECONDARY_SE_QUAD_XY: 457534.48100 5246772.56300
SECONDARY_SW_QUAD_XY: 452816.10400 5246808.54200
RMSE_XY: 0.73000
IMAGE_SOURCE: BLACK AND WHITE FILM
SOURCE_IMAGE_ID: NAPP 8373 87
SOURCE_IMAGE_DATE: 1995 08 09
SOURCE_DEM_DATE: 1990 00 00
AGENCY: WESTERN MAPPING CENTER (WMC)
PRODUCER: ANALYTICAL SURVEYS INC.
PRODUCTION_SYSTEM: ORBIT OR_RECTIFY V.5.2
COMPRESSION: UNDEFINED
STANDARD_VERSION: 1996 12
METADATA_DATE: 1999 01 05
DATA_FILE_SIZE: 41610660
BYTE_COUNT: 5460
