FILENAME: O4711135.NWS.949913.tif
QUADRANGLE_NAME: FAIR HAVEN COLONY
QUADRANT: NW
WEST_LONGITUDE: -111 45 0.00000
EAST_LONGITUDE: -111 41 15.00000
NORTH_LATITUDE: 47 30 0.00000
SOUTH_LATITUDE: 47 26 15.00000
PRODUCTION_DATE: 1999 01 02
RASTER_ORDER: LEFT_RIGHT/TOP_BOTTOM
BAND_ORGANIZATION: SINGLE FILE
BAND_CONTENT: BLACK&WHITE
BAND_CONTENT: UNDEFINED
BAND_CONTENT: UNDEFINED
BITS_PER_PIXEL: 8
SAMPLES_AND_LINES: 5460 7620
HORIZONTAL_DATUM: NAD83
HORIZONTAL_COORDINATE_SYSTEM: UTM
COORDINATE_ZONE: 12
HORIZONTAL_UNITS: METERS
HORIZONTAL_RESOLUTION: 1.00000
SECONDARY_HORIZONTAL_DATUM: NAD27
XY_ORIGIN: 443070.00000 5261310.00000
SECONDARY_XY_ORIGIN: 443129.85200 5261095.92800
NATION: US
STATE: MT
NW_QUAD_CORNER_XY: 443515.06600 5261002.30700
NE_QUAD_CORNER_XY: 448222.12400 5260958.77000
SE_QUAD_CORNERY_XY: 448160.70300 5254012.84300
SW_QUAD_CORNER_XY: 443448.06100 5254056.38800
SECONDARY_NW_QUAD_XY: 443513.30700 5260783.58100
SECONDARY_NE_QUAD_XY: 448220.51100 5260740.04200
SECONDARY_SE_QUAD_XY: 448159.09000 5253794.13700
SECONDARY_SW_QUAD_XY: 443446.30200 5253837.68400
RMSE_XY: 0.96000
IMAGE_SOURCE: BLACK AND WHITE FILM
SOURCE_IMAGE_ID: NAPP 8373 134
SOURCE_IMAGE_DATE: 1995 08 09
SOURCE_DEM_DATE: 1983 00 00
AGENCY: WESTERN MAPPING CENTER (WMC)
PRODUCER: ANALYTICAL SURVEYS INC.
PRODUCTION_SYSTEM: ORBIT OR_RECTIFY V.5.2
COMPRESSION: UNDEFINED
STANDARD_VERSION: 1996 12
METADATA_DATE: 1999 01 05
DATA_FILE_SIZE: 41610660
BYTE_COUNT: 5460
