FILENAME: O4711135.SES.949914.tif
QUADRANGLE_NAME: FAIR HAVEN COLONY
QUADRANT: SE
WEST_LONGITUDE: -111 41 15.00000
EAST_LONGITUDE: -111 37 30.00000
NORTH_LATITUDE: 47 26 15.00000
SOUTH_LATITUDE: 47 22 30.00000
PRODUCTION_DATE: 1999 01 02
RASTER_ORDER: LEFT_RIGHT/TOP_BOTTOM
BAND_ORGANIZATION: SINGLE FILE
BAND_CONTENT: BLACK&WHITE
BAND_CONTENT: UNDEFINED
BAND_CONTENT: UNDEFINED
BITS_PER_PIXEL: 8
SAMPLES_AND_LINES: 5460 7620
HORIZONTAL_DATUM: NAD83
HORIZONTAL_COORDINATE_SYSTEM: UTM
COORDINATE_ZONE: 12
HORIZONTAL_UNITS: METERS
HORIZONTAL_RESOLUTION: 1.00000
SECONDARY_HORIZONTAL_DATUM: NAD27
XY_ORIGIN: 447720.00000 5254320.00000
SECONDARY_XY_ORIGIN: 447779.84100 5254105.98200
NATION: US
STATE: MT
NW_QUAD_CORNER_XY: 448160.70300 5254012.84300
NE_QUAD_CORNER_XY: 452873.35000 5253973.08500
SE_QUAD_CORNERY_XY: 452817.57000 5247027.22600
SW_QUAD_CORNER_XY: 448099.34400 5247066.99100
SECONDARY_NW_QUAD_XY: 448159.09000 5253794.13700
SECONDARY_NE_QUAD_XY: 452871.88400 5253754.37800
SECONDARY_SE_QUAD_XY: 452816.10400 5246808.54200
SECONDARY_SW_QUAD_XY: 448097.73200 5246848.30800
RMSE_XY: 1.05000
IMAGE_SOURCE: BLACK AND WHITE FILM
SOURCE_IMAGE_ID: NAPP 8373 98
SOURCE_IMAGE_DATE: 1995 08 09
SOURCE_DEM_DATE: 1983 00 00
AGENCY: WESTERN MAPPING CENTER (WMC)
PRODUCER: ANALYTICAL SURVEYS INC.
PRODUCTION_SYSTEM: ORBIT OR_RECTIFY V.5.2
COMPRESSION: UNDEFINED
STANDARD_VERSION: 1996 12
METADATA_DATE: 1999 01 05
DATA_FILE_SIZE: 41610660
BYTE_COUNT: 5460
