FILENAME: O4711134.NES.727404.tif
QUADRANGLE_NAME: CASCADE COLONY
QUADRANT: NE
WEST_LONGITUDE: -111 48 45.00000
EAST_LONGITUDE: -111 45 0.00000
NORTH_LATITUDE: 47 30 0.00000
SOUTH_LATITUDE: 47 26 15.00000
PRODUCTION_DATE: 1997 8 4
RASTER_ORDER: LEFT_RIGHT/TOP_BOTTOM
BAND_ORGANIZATION: SINGLE FILE
BAND_CONTENT: BLACK&WHITE
BAND_CONTENT: UNDEFINED
BAND_CONTENT: UNDEFINED
BITS_PER_PIXEL: 8
SAMPLES_AND_LINES: 5442 7598
HORIZONTAL_DATUM: NAD83
HORIZONTAL_COORDINATE_SYSTEM: UTM
COORDINATE_ZONE: 12
HORIZONTAL_UNITS: METERS
HORIZONTAL_RESOLUTION: 1.00000
SECONDARY_HORIZONTAL_DATUM: NAD27
XY_ORIGIN: 438373.95300 5261349.13100
SECONDARY_XY_ORIGIN: 438433.93100 5261135.11600
NATION: US
STATE: MT
NW_QUAD_CORNER_XY: 438808.01400 5261049.63100
NE_QUAD_CORNER_XY: 443515.06600 5261002.30700
SE_QUAD_CORNERY_XY: 443448.06100 5254056.38900
SW_QUAD_CORNER_XY: 438735.42500 5254103.72100
SECONDARY_NW_QUAD_XY: 438806.10800 5260830.90600
SECONDARY_NE_QUAD_XY: 443513.30700 5260783.58100
SECONDARY_SE_QUAD_XY: 443446.30200 5253837.68400
SECONDARY_SW_QUAD_XY: 438733.51900 5253885.01800
RMSE_XY: 1.10000
IMAGE_SOURCE: BLACK AND WHITE FILM
SOURCE_IMAGE_ID: NAPP 8373 149
SOURCE_IMAGE_DATE: 1995 8 9
SOURCE_DEM_DATE: 1997 8 4
AGENCY: WESTERN MAPPING CENTER (WMC)
PRODUCER: Nies Mapping Group
PRODUCTION_SYSTEM: INTERGRAPH- ISPM,ISIR
COMPRESSION: UNDEFINED
STANDARD_VERSION: 1996 12
METADATA_DATE: 1997 12 30
DATA_FILE_SIZE: 41353758
BYTE_COUNT: 5442
