FILENAME: O4711132.NWS.1078183.tif
QUADRANGLE_NAME: MORONY DAM
QUADRANT: NW
WEST_LONGITUDE: -111 7 30.00000
EAST_LONGITUDE: -111 3 45.00000
NORTH_LATITUDE: 47 37 30.00000
SOUTH_LATITUDE: 47 33 45.00000
PRODUCTION_DATE: 2000 5 8
RASTER_ORDER: LEFT_RIGHT/TOP_BOTTOM
BAND_ORGANIZATION: SINGLE FILE
BAND_CONTENT: BLACK&WHITE
BAND_CONTENT: UNDEFINED
BAND_CONTENT: UNDEFINED
BITS_PER_PIXEL: 8
SAMPLES_AND_LINES: 5371 7559
HORIZONTAL_DATUM: NAD83
HORIZONTAL_COORDINATE_SYSTEM: UTM
COORDINATE_ZONE: 12
HORIZONTAL_UNITS: METERS
HORIZONTAL_RESOLUTION: 1.00000
SECONDARY_HORIZONTAL_DATUM: NAD27
XY_ORIGIN: 490235.00000 5274930.00000
SECONDARY_XY_ORIGIN: 490294.66200 5274715.19400
NATION: US
NATION: "SCIENCE
STATE: MT
NW_QUAD_CORNER_XY: 490608.19000 5274629.46800
NE_QUAD_CORNER_XY: 495304.09500 5274623.79100
SE_QUAD_CORNERY_XY: 495298.50000 5267677.67000
SW_QUAD_CORNER_XY: 490597.00000 5267683.34800
SECONDARY_NW_QUAD_XY: 490607.89600 5274410.69200
SECONDARY_NE_QUAD_XY: 495303.94800 5274405.01500
SECONDARY_SE_QUAD_XY: 495298.35300 5267458.91500
SECONDARY_SW_QUAD_XY: 490596.70700 5267464.59200
RMSE_XY: 1.70000
IMAGE_SOURCE: BLACK AND WHITE FILM
SOURCE_IMAGE_ID: NAPP 8372 045
SOURCE_IMAGE_DATE: 1995 07 08
SOURCE_IMAGE_ID: NAPP 8372 046
SOURCE_IMAGE_DATE: 1995 07 08
SOURCE_IMAGE_ID: NAPP 8372 044
SOURCE_IMAGE_DATE: 1995 07 08
SOURCE_IMAGE_ID: NAPP 8373 024
SOURCE_IMAGE_DATE: 1995 08 09
SOURCE_DEM_DATE: 2000 01 01
AGENCY: WESTERN MAPPING CENTER (WMC)
PRODUCER: UNDEFINED
PRODUCTION_SYSTEM: GIS/MAGIC
COMPRESSION: UNDEFINED
STANDARD_VERSION: 1996 12
METADATA_DATE: 2000 06 02
DATA_FILE_SIZE: 40604760
BYTE_COUNT: 5371
