FILENAME: O4711132.SWS.1078185.tif
QUADRANGLE_NAME: MORONY DAM
QUADRANT: SW
WEST_LONGITUDE: -111 7 30.00000
EAST_LONGITUDE: -111 3 45.00000
NORTH_LATITUDE: 47 33 45.00000
SOUTH_LATITUDE: 47 30 0.00000
PRODUCTION_DATE: 2000 5 8
RASTER_ORDER: LEFT_RIGHT/TOP_BOTTOM
BAND_ORGANIZATION: SINGLE FILE
BAND_CONTENT: BLACK&WHITE
BAND_CONTENT: UNDEFINED
BAND_CONTENT: UNDEFINED
BITS_PER_PIXEL: 8
SAMPLES_AND_LINES: 5376 7559
HORIZONTAL_DATUM: NAD83
HORIZONTAL_COORDINATE_SYSTEM: UTM
COORDINATE_ZONE: 12
HORIZONTAL_UNITS: METERS
HORIZONTAL_RESOLUTION: 1.00000
SECONDARY_HORIZONTAL_DATUM: NAD27
XY_ORIGIN: 490224.00000 5267984.00000
SECONDARY_XY_ORIGIN: 490284.05800 5267769.23700
NATION: US
NATION: "SCIENCE
STATE: MT
NW_QUAD_CORNER_XY: 490597.00000 5267683.34800
NE_QUAD_CORNER_XY: 495298.50000 5267677.67000
SE_QUAD_CORNERY_XY: 495292.91100 5260731.62500
SW_QUAD_CORNER_XY: 490585.82200 5260737.30400
SECONDARY_NW_QUAD_XY: 490596.70700 5267464.59200
SECONDARY_NE_QUAD_XY: 495298.35300 5267458.91500
SECONDARY_SE_QUAD_XY: 495292.76400 5260512.89100
SECONDARY_SW_QUAD_XY: 490585.52900 5260518.57000
RMSE_XY: 1.20000
IMAGE_SOURCE: BLACK AND WHITE FILM
SOURCE_IMAGE_ID: NAPP 8372 047
SOURCE_IMAGE_DATE: 1995 07 08
SOURCE_IMAGE_ID: NAPP 8372 046
SOURCE_IMAGE_DATE: 1995 07 08
SOURCE_DEM_DATE: 2000 01 01
AGENCY: WESTERN MAPPING CENTER (WMC)
PRODUCER: UNDEFINED
PRODUCTION_SYSTEM: GIS/MAGIC
COMPRESSION: UNDEFINED
STANDARD_VERSION: 1996 12
METADATA_DATE: 2000 06 02
DATA_FILE_SIZE: 40642560
BYTE_COUNT: 5376
