FILENAME: O4711131.NWS.727313.tif
QUADRANGLE_NAME: NORTHEAST GREAT FALLS
QUADRANT: NW
WEST_LONGITUDE: -111 15 0.00000
EAST_LONGITUDE: -111 11 15.00000
NORTH_LATITUDE: 47 37 30.00000
SOUTH_LATITUDE: 47 33 45.00000
PRODUCTION_DATE: 1997 8 1
RASTER_ORDER: LEFT_RIGHT/TOP_BOTTOM
BAND_ORGANIZATION: SINGLE FILE
BAND_CONTENT: BLACK&WHITE
BAND_CONTENT: UNDEFINED
BAND_CONTENT: UNDEFINED
BITS_PER_PIXEL: 8
SAMPLES_AND_LINES: 5379 7564
HORIZONTAL_DATUM: NAD83
HORIZONTAL_COORDINATE_SYSTEM: UTM
COORDINATE_ZONE: 12
HORIZONTAL_UNITS: METERS
HORIZONTAL_RESOLUTION: 1.00000
SECONDARY_HORIZONTAL_DATUM: NAD27
XY_ORIGIN: 480833.87400 5274951.67400
SECONDARY_XY_ORIGIN: 480893.57200 5274737.15500
NATION: US
STATE: MT
NW_QUAD_CORNER_XY: 481216.38300 5274652.17400
NE_QUAD_CORNER_XY: 485912.28600 5274638.92900
SE_QUAD_CORNERY_XY: 485895.50100 5267692.81100
SW_QUAD_CORNER_XY: 481194.00400 5267706.05800
SECONDARY_NW_QUAD_XY: 481215.79700 5274433.39900
SECONDARY_NE_QUAD_XY: 485911.84600 5274420.15400
SECONDARY_SE_QUAD_XY: 485895.06200 5267474.05600
SECONDARY_SW_QUAD_XY: 481193.41800 5267487.30400
RMSE_XY: 1.00000
IMAGE_SOURCE: BLACK AND WHITE FILM
SOURCE_IMAGE_ID: NAPP 8372 95
SOURCE_IMAGE_DATE: 1995 7 8
SOURCE_DEM_DATE: 1997 8 1
AGENCY: WESTERN MAPPING CENTER (WMC)
PRODUCER: Nies Mapping Group
PRODUCTION_SYSTEM: INTERGRAPH- ISPM,ISIR
COMPRESSION: UNDEFINED
STANDARD_VERSION: 1996 12
METADATA_DATE: 1997 12 30
DATA_FILE_SIZE: 40692135
BYTE_COUNT: 5379
