FILENAME: O4711130.NES.727332.tif
QUADRANGLE_NAME: NORTHWEST GREAT FALLS
QUADRANT: NE
WEST_LONGITUDE: -111 18 45.00000
EAST_LONGITUDE: -111 15 0.00000
NORTH_LATITUDE: 47 37 30.00000
SOUTH_LATITUDE: 47 33 45.00000
PRODUCTION_DATE: 1997 8 1
RASTER_ORDER: LEFT_RIGHT/TOP_BOTTOM
BAND_ORGANIZATION: SINGLE FILE
BAND_CONTENT: BLACK&WHITE
BAND_CONTENT: UNDEFINED
BAND_CONTENT: UNDEFINED
BITS_PER_PIXEL: 8
SAMPLES_AND_LINES: 5384 7568
HORIZONTAL_DATUM: NAD83
HORIZONTAL_COORDINATE_SYSTEM: UTM
COORDINATE_ZONE: 12
HORIZONTAL_UNITS: METERS
HORIZONTAL_RESOLUTION: 1.00000
SECONDARY_HORIZONTAL_DATUM: NAD27
XY_ORIGIN: 476132.38700 5274968.70300
SECONDARY_XY_ORIGIN: 476192.00200 5274754.15800
NATION: US
STATE: MT
NW_QUAD_CORNER_XY: 476520.48300 5274669.20300
NE_QUAD_CORNER_XY: 481216.38300 5274652.17400
SE_QUAD_CORNERY_XY: 481194.00400 5267706.05800
SW_QUAD_CORNER_XY: 476492.50900 5267723.09100
SECONDARY_NW_QUAD_XY: 476519.75000 5274450.42800
SECONDARY_NE_QUAD_XY: 481215.79700 5274433.39900
SECONDARY_SE_QUAD_XY: 481193.41800 5267487.30400
SECONDARY_SW_QUAD_XY: 476491.77600 5267504.33600
RMSE_XY: 0.90000
IMAGE_SOURCE: BLACK AND WHITE FILM
SOURCE_IMAGE_ID: NAPP 8372 118
SOURCE_IMAGE_DATE: 1995 7 8
SOURCE_DEM_DATE: 1997 8 1
AGENCY: WESTERN MAPPING CENTER (WMC)
PRODUCER: Nies Mapping Group
PRODUCTION_SYSTEM: INTERGRAPH- ISPM,ISIR
COMPRESSION: UNDEFINED
STANDARD_VERSION: 1996 12
METADATA_DATE: 1997 12 30
DATA_FILE_SIZE: 40751496
BYTE_COUNT: 5384
