FILENAME: O4711129.NWS.727360.tif
QUADRANGLE_NAME: MANCHESTER
QUADRANT: NW
WEST_LONGITUDE: -111 30 0.00000
EAST_LONGITUDE: -111 26 15.00000
NORTH_LATITUDE: 47 37 30.00000
SOUTH_LATITUDE: 47 33 45.00000
PRODUCTION_DATE: 1997 8 1
RASTER_ORDER: LEFT_RIGHT/TOP_BOTTOM
BAND_ORGANIZATION: SINGLE FILE
BAND_CONTENT: BLACK&WHITE
BAND_CONTENT: UNDEFINED
BAND_CONTENT: UNDEFINED
BITS_PER_PIXEL: 8
SAMPLES_AND_LINES: 5401 7579
HORIZONTAL_DATUM: NAD83
HORIZONTAL_COORDINATE_SYSTEM: UTM
COORDINATE_ZONE: 12
HORIZONTAL_UNITS: METERS
HORIZONTAL_RESOLUTION: 1.00000
SECONDARY_HORIZONTAL_DATUM: NAD27
XY_ORIGIN: 462027.94100 5275042.49600
SECONDARY_XY_ORIGIN: 462087.32100 5274827.87800
NATION: US
STATE: MT
NW_QUAD_CORNER_XY: 462432.79900 5274742.99600
NE_QUAD_CORNER_XY: 467128.69000 5274714.61400
SE_QUAD_CORNERY_XY: 467089.52600 5267768.51100
SW_QUAD_CORNER_XY: 462388.04000 5267796.89800
SECONDARY_NW_QUAD_XY: 462431.62600 5274524.22400
SECONDARY_NE_QUAD_XY: 467127.66400 5274495.84100
SECONDARY_SE_QUAD_XY: 467088.50000 5267549.75800
SECONDARY_SW_QUAD_XY: 462386.86700 5267578.14600
RMSE_XY: 1.20000
IMAGE_SOURCE: BLACK AND WHITE FILM
SOURCE_IMAGE_ID: NAPP 8373 31
SOURCE_IMAGE_DATE: 1995 8 9
SOURCE_DEM_DATE: 1997 8 1
AGENCY: WESTERN MAPPING CENTER (WMC)
PRODUCER: Nies Mapping Group
PRODUCTION_SYSTEM: INTERGRAPH- ISPM,ISIR
COMPRESSION: UNDEFINED
STANDARD_VERSION: 1996 12
METADATA_DATE: 1997 12 30
DATA_FILE_SIZE: 40939580
BYTE_COUNT: 5401
