FILENAME: O4711129.SWS.727362.tif
QUADRANGLE_NAME: MANCHESTER
QUADRANT: SW
WEST_LONGITUDE: -111 30 0.00000
EAST_LONGITUDE: -111 26 15.00000
NORTH_LATITUDE: 47 33 45.00000
SOUTH_LATITUDE: 47 30 0.00000
PRODUCTION_DATE: 1997 8 1
RASTER_ORDER: LEFT_RIGHT/TOP_BOTTOM
BAND_ORGANIZATION: SINGLE FILE
BAND_CONTENT: BLACK&WHITE
BAND_CONTENT: UNDEFINED
BAND_CONTENT: UNDEFINED
BITS_PER_PIXEL: 8
SAMPLES_AND_LINES: 5407 7579
HORIZONTAL_DATUM: NAD83
HORIZONTAL_COORDINATE_SYSTEM: UTM
COORDINATE_ZONE: 12
HORIZONTAL_UNITS: METERS
HORIZONTAL_RESOLUTION: 1.00000
SECONDARY_HORIZONTAL_DATUM: NAD27
XY_ORIGIN: 461983.17400 5268096.39800
SECONDARY_XY_ORIGIN: 462042.60600 5267881.87700
NATION: US
STATE: MT
NW_QUAD_CORNER_XY: 462388.04000 5267796.89800
NE_QUAD_CORNER_XY: 467089.52600 5267768.51100
SE_QUAD_CORNERY_XY: 467050.40200 5260822.48300
SW_QUAD_CORNER_XY: 462343.32600 5260850.87600
SECONDARY_NW_QUAD_XY: 462386.86700 5267578.14600
SECONDARY_NE_QUAD_XY: 467088.50000 5267549.75800
SECONDARY_SE_QUAD_XY: 467049.37600 5260603.75100
SECONDARY_SW_QUAD_XY: 462342.15300 5260632.14500
RMSE_XY: 1.30000
IMAGE_SOURCE: BLACK AND WHITE FILM
SOURCE_IMAGE_ID: NAPP 8373 33
SOURCE_IMAGE_DATE: 1995 8 9
SOURCE_DEM_DATE: 1997 8 1
AGENCY: WESTERN MAPPING CENTER (WMC)
PRODUCER: Nies Mapping Group
PRODUCTION_SYSTEM: INTERGRAPH- ISPM,ISIR
COMPRESSION: UNDEFINED
STANDARD_VERSION: 1996 12
METADATA_DATE: 1997 12 30
DATA_FILE_SIZE: 40985060
BYTE_COUNT: 5407
