FILENAME: O4711127.NWS.727389.tif
QUADRANGLE_NAME: SUN RIVER
QUADRANT: NW
WEST_LONGITUDE: -111 45 0.00000
EAST_LONGITUDE: -111 41 15.00000
NORTH_LATITUDE: 47 37 30.00000
SOUTH_LATITUDE: 47 33 45.00000
PRODUCTION_DATE: 1997 8 5
RASTER_ORDER: LEFT_RIGHT/TOP_BOTTOM
BAND_ORGANIZATION: SINGLE FILE
BAND_CONTENT: BLACK&WHITE
BAND_CONTENT: UNDEFINED
BAND_CONTENT: UNDEFINED
BITS_PER_PIXEL: 8
SAMPLES_AND_LINES: 5425 7594
HORIZONTAL_DATUM: NAD83
HORIZONTAL_COORDINATE_SYSTEM: UTM
COORDINATE_ZONE: 12
HORIZONTAL_UNITS: METERS
HORIZONTAL_RESOLUTION: 1.00000
SECONDARY_HORIZONTAL_DATUM: NAD27
XY_ORIGIN: 443221.03000 5275193.86900
SECONDARY_XY_ORIGIN: 443280.89800 5274979.53200
NATION: US
STATE: MT
NW_QUAD_CORNER_XY: 443649.27900 5274894.36900
NE_QUAD_CORNER_XY: 448345.15100 5274850.84900
SE_QUAD_CORNERY_XY: 448283.60600 5267904.77200
SW_QUAD_CORNER_XY: 443582.13900 5267948.30100
SECONDARY_NW_QUAD_XY: 443647.51900 5274675.60200
SECONDARY_NE_QUAD_XY: 448343.53800 5274632.08000
SECONDARY_SE_QUAD_XY: 448281.99400 5267686.02400
SECONDARY_SW_QUAD_XY: 443580.37900 5267729.55400
RMSE_XY: 0.80000
IMAGE_SOURCE: BLACK AND WHITE FILM
SOURCE_IMAGE_ID: NAPP 8373 130
SOURCE_IMAGE_DATE: 1995 8 9
SOURCE_DEM_DATE: 1997 8 5
AGENCY: WESTERN MAPPING CENTER (WMC)
PRODUCER: Nies Mapping Group
PRODUCTION_SYSTEM: INTERGRAPH- ISPM,ISIR
COMPRESSION: UNDEFINED
STANDARD_VERSION: 1996 12
METADATA_DATE: 1997 12 30
DATA_FILE_SIZE: 41202875
BYTE_COUNT: 5425
