FILENAME: O4711127.SES.727390.tif
QUADRANGLE_NAME: SUN RIVER
QUADRANT: SE
WEST_LONGITUDE: -111 41 15.00000
EAST_LONGITUDE: -111 37 30.00000
NORTH_LATITUDE: 47 33 45.00000
SOUTH_LATITUDE: 47 30 0.00000
PRODUCTION_DATE: 1997 8 5
RASTER_ORDER: LEFT_RIGHT/TOP_BOTTOM
BAND_ORGANIZATION: SINGLE FILE
BAND_CONTENT: BLACK&WHITE
BAND_CONTENT: UNDEFINED
BAND_CONTENT: UNDEFINED
BITS_PER_PIXEL: 8
SAMPLES_AND_LINES: 5424 7590
HORIZONTAL_DATUM: NAD83
HORIZONTAL_COORDINATE_SYSTEM: UTM
COORDINATE_ZONE: 12
HORIZONTAL_UNITS: METERS
HORIZONTAL_RESOLUTION: 1.00000
SECONDARY_HORIZONTAL_DATUM: NAD27
XY_ORIGIN: 447861.25900 5268204.27200
SECONDARY_XY_ORIGIN: 447921.01000 5267989.99100
NATION: US
STATE: MT
NW_QUAD_CORNER_XY: 448283.60600 5267904.77200
NE_QUAD_CORNER_XY: 452985.07900 5267865.02900
SE_QUAD_CORNERY_XY: 452929.18600 5260919.01900
SW_QUAD_CORNER_XY: 448222.12400 5260958.77000
SECONDARY_NW_QUAD_XY: 448281.99400 5267686.02400
SECONDARY_NE_QUAD_XY: 452983.61300 5267646.27900
SECONDARY_SE_QUAD_XY: 452927.72000 5260700.29100
SECONDARY_SW_QUAD_XY: 448220.51100 5260740.04300
RMSE_XY: 1.60000
IMAGE_SOURCE: BLACK AND WHITE FILM
SOURCE_IMAGE_ID: NAPP 8373 102
SOURCE_IMAGE_DATE: 1995 8 9
SOURCE_DEM_DATE: 1997 8 5
AGENCY: WESTERN MAPPING CENTER (WMC)
PRODUCER: Nies Mapping Group
PRODUCTION_SYSTEM: INTERGRAPH- ISPM,ISIR
COMPRESSION: UNDEFINED
STANDARD_VERSION: 1996 12
METADATA_DATE: 1997 12 30
DATA_FILE_SIZE: 41173584
BYTE_COUNT: 5424
