FILENAME: O4711126.NWS.727401.tif
QUADRANGLE_NAME: FORT SHAW
QUADRANT: NW
WEST_LONGITUDE: -111 52 30.00000
EAST_LONGITUDE: -111 48 45.00000
NORTH_LATITUDE: 47 37 30.00000
SOUTH_LATITUDE: 47 33 45.00000
PRODUCTION_DATE: 1997 8 5
RASTER_ORDER: LEFT_RIGHT/TOP_BOTTOM
BAND_ORGANIZATION: SINGLE FILE
BAND_CONTENT: BLACK&WHITE
BAND_CONTENT: UNDEFINED
BAND_CONTENT: UNDEFINED
BITS_PER_PIXEL: 8
SAMPLES_AND_LINES: 5436 7602
HORIZONTAL_DATUM: NAD83
HORIZONTAL_COORDINATE_SYSTEM: UTM
COORDINATE_ZONE: 12
HORIZONTAL_UNITS: METERS
HORIZONTAL_RESOLUTION: 1.00000
SECONDARY_HORIZONTAL_DATUM: NAD27
XY_ORIGIN: 433817.53000 5275292.26400
SECONDARY_XY_ORIGIN: 433877.73400 5275078.03700
NATION: US
STATE: MT
NW_QUAD_CORNER_XY: 434257.55300 5274992.76400
NE_QUAD_CORNER_XY: 438953.41300 5274941.67400
SE_QUAD_CORNERY_XY: 438880.67700 5267995.61500
SW_QUAD_CORNER_XY: 434179.22100 5268046.71500
SECONDARY_NW_QUAD_XY: 434255.50000 5274774.00000
SECONDARY_NE_QUAD_XY: 438951.50700 5274722.90800
SECONDARY_SE_QUAD_XY: 438878.77100 5267776.86900
SECONDARY_SW_QUAD_XY: 434177.16900 5267827.97100
RMSE_XY: 1.20000
IMAGE_SOURCE: BLACK AND WHITE FILM
SOURCE_IMAGE_ID: NAPP 8373 176
SOURCE_IMAGE_DATE: 1995 8 9
SOURCE_DEM_DATE: 1997 8 5
AGENCY: WESTERN MAPPING CENTER (WMC)
PRODUCER: Nies Mapping Group
PRODUCTION_SYSTEM: INTERGRAPH- ISPM,ISIR
COMPRESSION: UNDEFINED
STANDARD_VERSION: 1996 12
METADATA_DATE: 1997 12 30
DATA_FILE_SIZE: 41329908
BYTE_COUNT: 5436
