FILENAME: O4711126.SES.727402.tif
QUADRANGLE_NAME: FORT SHAW
QUADRANT: SE
WEST_LONGITUDE: -111 48 45.00000
EAST_LONGITUDE: -111 45 0.00000
NORTH_LATITUDE: 47 33 45.00000
SOUTH_LATITUDE: 47 30 0.00000
PRODUCTION_DATE: 1997 8 5
RASTER_ORDER: LEFT_RIGHT/TOP_BOTTOM
BAND_ORGANIZATION: SINGLE FILE
BAND_CONTENT: BLACK&WHITE
BAND_CONTENT: UNDEFINED
BAND_CONTENT: UNDEFINED
BITS_PER_PIXEL: 8
SAMPLES_AND_LINES: 5436 7598
HORIZONTAL_DATUM: NAD83
HORIZONTAL_COORDINATE_SYSTEM: UTM
COORDINATE_ZONE: 12
HORIZONTAL_UNITS: METERS
HORIZONTAL_RESOLUTION: 1.00000
SECONDARY_HORIZONTAL_DATUM: NAD27
XY_ORIGIN: 438446.64200 5268295.11500
SECONDARY_XY_ORIGIN: 438506.64900 5268080.96600
NATION: US
STATE: MT
NW_QUAD_CORNER_XY: 438880.67700 5267995.61500
NE_QUAD_CORNER_XY: 443582.13900 5267948.30100
SE_QUAD_CORNERY_XY: 443515.06600 5261002.30700
SW_QUAD_CORNER_XY: 438808.01400 5261049.63100
SECONDARY_NW_QUAD_XY: 438878.77100 5267776.86900
SECONDARY_NE_QUAD_XY: 443580.37900 5267729.55400
SECONDARY_SE_QUAD_XY: 443513.30700 5260783.58100
SECONDARY_SW_QUAD_XY: 438806.10800 5260830.90600
RMSE_XY: 0.80000
IMAGE_SOURCE: BLACK AND WHITE FILM
SOURCE_IMAGE_ID: NAPP 8373 189
SOURCE_IMAGE_DATE: 1995 8 9
SOURCE_DEM_DATE: 1997 8 5
AGENCY: WESTERN MAPPING CENTER (WMC)
PRODUCER: Nies Mapping Group
PRODUCTION_SYSTEM: INTERGRAPH- ISPM,ISIR
COMPRESSION: UNDEFINED
STANDARD_VERSION: 1996 12
METADATA_DATE: 1997 12 30
DATA_FILE_SIZE: 41308164
BYTE_COUNT: 5436
