FILENAME: O4711125.NES.727428.tif
QUADRANGLE_NAME: FAIRFIELD
QUADRANT: NE
WEST_LONGITUDE: -111 56 15.00000
EAST_LONGITUDE: -111 52 30.00000
NORTH_LATITUDE: 47 37 30.00000
SOUTH_LATITUDE: 47 33 45.00000
PRODUCTION_DATE: 1997 8 11
RASTER_ORDER: LEFT_RIGHT/TOP_BOTTOM
BAND_ORGANIZATION: SINGLE FILE
BAND_CONTENT: BLACK&WHITE
BAND_CONTENT: UNDEFINED
BAND_CONTENT: UNDEFINED
BITS_PER_PIXEL: 8
SAMPLES_AND_LINES: 5442 7606
HORIZONTAL_DATUM: NAD83
HORIZONTAL_COORDINATE_SYSTEM: UTM
COORDINATE_ZONE: 12
HORIZONTAL_UNITS: METERS
HORIZONTAL_RESOLUTION: 1.00000
SECONDARY_HORIZONTAL_DATUM: NAD27
XY_ORIGIN: 429115.79000 5275347.13900
SECONDARY_XY_ORIGIN: 429176.16100 5275132.96700
NATION: US
STATE: MT
NW_QUAD_CORNER_XY: 429561.70100 5275047.63900
NE_QUAD_CORNER_XY: 434257.55300 5274992.76400
SE_QUAD_CORNERY_XY: 434179.22100 5268046.71500
SW_QUAD_CORNER_XY: 429477.77300 5268101.60100
SECONDARY_NW_QUAD_XY: 429559.50100 5274828.87600
SECONDARY_NE_QUAD_XY: 434255.50000 5274774.00000
SECONDARY_SE_QUAD_XY: 434177.16900 5267827.97100
SECONDARY_SW_QUAD_XY: 429475.57400 5267882.85800
RMSE_XY: 0.50000
IMAGE_SOURCE: BLACK AND WHITE FILM
SOURCE_IMAGE_ID: NAPP 8373 231
SOURCE_IMAGE_DATE: 1995 8 9
SOURCE_DEM_DATE: 1997 8 11
AGENCY: WESTERN MAPPING CENTER (WMC)
PRODUCER: Nies Mapping Group
PRODUCTION_SYSTEM: INTERGRAPH- ISPM,ISIR
COMPRESSION: UNDEFINED
STANDARD_VERSION: 1996 12
METADATA_DATE: 1997 12 30
DATA_FILE_SIZE: 41397294
BYTE_COUNT: 5442
