FILENAME: O4711124.NWS.1078203.tif
QUADRANGLE_NAME: FLOWEREE
QUADRANT: NW
WEST_LONGITUDE: -111 7 30.00000
EAST_LONGITUDE: -111 3 45.00000
NORTH_LATITUDE: 47 45 0.00000
SOUTH_LATITUDE: 47 41 15.00000
PRODUCTION_DATE: 2000 5 8
RASTER_ORDER: LEFT_RIGHT/TOP_BOTTOM
BAND_ORGANIZATION: SINGLE FILE
BAND_CONTENT: BLACK&WHITE
BAND_CONTENT: UNDEFINED
BAND_CONTENT: UNDEFINED
BITS_PER_PIXEL: 8
SAMPLES_AND_LINES: 5359 7558
HORIZONTAL_DATUM: NAD83
HORIZONTAL_COORDINATE_SYSTEM: UTM
COORDINATE_ZONE: 12
HORIZONTAL_UNITS: METERS
HORIZONTAL_RESOLUTION: 1.00000
SECONDARY_HORIZONTAL_DATUM: NAD27
XY_ORIGIN: 490258.00000 5288822.00000
SECONDARY_XY_ORIGIN: 490316.87400 5288607.11100
NATION: US
NATION: "SCIENCE
STATE: MT
NW_QUAD_CORNER_XY: 490630.60200 5288521.93600
NE_QUAD_CORNER_XY: 495315.30100 5288516.26200
SE_QUAD_CORNERY_XY: 495309.69500 5281569.98800
SW_QUAD_CORNER_XY: 490619.39000 5281575.66400
SECONDARY_NW_QUAD_XY: 490630.30900 5288303.12100
SECONDARY_NE_QUAD_XY: 495315.15400 5288297.44700
SECONDARY_SE_QUAD_XY: 495309.54800 5281351.19300
SECONDARY_SW_QUAD_XY: 490619.09700 5281356.86800
RMSE_XY: 0.80000
IMAGE_SOURCE: BLACK AND WHITE FILM
SOURCE_IMAGE_ID: NAPP 8372 041
SOURCE_IMAGE_DATE: 1995 07 08
SOURCE_IMAGE_ID: NAPP 8372 042
SOURCE_IMAGE_DATE: 1995 07 08
SOURCE_IMAGE_ID: NAPP 8372 022
SOURCE_IMAGE_DATE: 1995 07 08
SOURCE_DEM_DATE: 2000 01 01
AGENCY: WESTERN MAPPING CENTER (WMC)
PRODUCER: UNDEFINED
PRODUCTION_SYSTEM: GIS/MAGIC
COMPRESSION: UNDEFINED
STANDARD_VERSION: 1996 12
METADATA_DATE: 2000 06 02
DATA_FILE_SIZE: 40508681
BYTE_COUNT: 5359
