FILENAME: O4711124.SWS.1078205.tif
QUADRANGLE_NAME: FLOWEREE
QUADRANT: SW
WEST_LONGITUDE: -111 7 30.00000
EAST_LONGITUDE: -111 3 45.00000
NORTH_LATITUDE: 47 41 15.00000
SOUTH_LATITUDE: 47 37 30.00000
PRODUCTION_DATE: 2000 5 8
RASTER_ORDER: LEFT_RIGHT/TOP_BOTTOM
BAND_ORGANIZATION: SINGLE FILE
BAND_CONTENT: BLACK&WHITE
BAND_CONTENT: UNDEFINED
BAND_CONTENT: UNDEFINED
BITS_PER_PIXEL: 8
SAMPLES_AND_LINES: 5364 7558
HORIZONTAL_DATUM: NAD83
HORIZONTAL_COORDINATE_SYSTEM: UTM
COORDINATE_ZONE: 12
HORIZONTAL_UNITS: METERS
HORIZONTAL_RESOLUTION: 1.00000
SECONDARY_HORIZONTAL_DATUM: NAD27
XY_ORIGIN: 490247.00000 5281876.00000
SECONDARY_XY_ORIGIN: 490306.26800 5281661.15200
NATION: US
NATION: "SCIENCE
STATE: MT
NW_QUAD_CORNER_XY: 490619.39000 5281575.66400
NE_QUAD_CORNER_XY: 495309.69500 5281569.98800
SE_QUAD_CORNERY_XY: 495304.09500 5274623.79100
SW_QUAD_CORNER_XY: 490608.19000 5274629.46800
SECONDARY_NW_QUAD_XY: 490619.09700 5281356.86800
SECONDARY_NE_QUAD_XY: 495309.54800 5281351.19300
SECONDARY_SE_QUAD_XY: 495303.94800 5274405.01500
SECONDARY_SW_QUAD_XY: 490607.89600 5274410.69200
RMSE_XY: 1.20000
IMAGE_SOURCE: BLACK AND WHITE FILM
SOURCE_IMAGE_ID: NAPP 8372 043
SOURCE_IMAGE_DATE: 1995 07 08
SOURCE_IMAGE_ID: NAPP 8372 044
SOURCE_IMAGE_DATE: 1995 07 08
SOURCE_DEM_DATE: 2000 01 01
AGENCY: WESTERN MAPPING CENTER (WMC)
PRODUCER: UNDEFINED
PRODUCTION_SYSTEM: GIS/MAGIC
COMPRESSION: UNDEFINED
STANDARD_VERSION: 1996 12
METADATA_DATE: 2000 06 02
DATA_FILE_SIZE: 40546476
BYTE_COUNT: 5364
