FILENAME: O4711123.NES.1078175.tif
QUADRANGLE_NAME: FLICK LAKE
QUADRANT: NE
WEST_LONGITUDE: -111 11 15.00000
EAST_LONGITUDE: -111 7 30.00000
NORTH_LATITUDE: 47 45 0.00000
SOUTH_LATITUDE: 47 41 15.00000
PRODUCTION_DATE: 2000 5 4
RASTER_ORDER: LEFT_RIGHT/TOP_BOTTOM
BAND_ORGANIZATION: SINGLE FILE
BAND_CONTENT: BLACK&WHITE
BAND_CONTENT: UNDEFINED
BAND_CONTENT: UNDEFINED
BITS_PER_PIXEL: 8
SAMPLES_AND_LINES: 5364 7563
HORIZONTAL_DATUM: NAD83
HORIZONTAL_COORDINATE_SYSTEM: UTM
COORDINATE_ZONE: 12
HORIZONTAL_UNITS: METERS
HORIZONTAL_RESOLUTION: 1.00000
SECONDARY_HORIZONTAL_DATUM: NAD27
XY_ORIGIN: 485568.00000 5288832.00000
SECONDARY_XY_ORIGIN: 485626.96200 5288617.15700
NATION: US
NATION: "SCIENCE
STATE: MT
NW_QUAD_CORNER_XY: 485945.90500 5288531.39200
NE_QUAD_CORNER_XY: 490630.60200 5288521.93600
SE_QUAD_CORNERY_XY: 490619.39000 5281575.66400
SW_QUAD_CORNER_XY: 485929.08700 5281585.12200
SECONDARY_NW_QUAD_XY: 485945.46500 5288312.57800
SECONDARY_NE_QUAD_XY: 490630.30900 5288303.12100
SECONDARY_SE_QUAD_XY: 490619.09700 5281356.86800
SECONDARY_SW_QUAD_XY: 485928.64700 5281366.32700
RMSE_XY: 0.90000
IMAGE_SOURCE: BLACK AND WHITE FILM
SOURCE_IMAGE_ID: NAPP 8372 072
SOURCE_IMAGE_DATE: 1995 07 08
SOURCE_IMAGE_ID: NAPP 8372 070
SOURCE_IMAGE_DATE: 1995 07 08
SOURCE_IMAGE_ID: NAPP 8372 073
SOURCE_IMAGE_DATE: 1995 07 08
SOURCE_IMAGE_ID: NAPP 8372 074
SOURCE_IMAGE_DATE: 1995 07 08
SOURCE_DEM_DATE: 2000 01 01
AGENCY: WESTERN MAPPING CENTER (WMC)
PRODUCER: UNDEFINED
PRODUCTION_SYSTEM: GIS/MAGIC
COMPRESSION: UNDEFINED
STANDARD_VERSION: 1996 12
METADATA_DATE: 2000 06 02
DATA_FILE_SIZE: 40573296
BYTE_COUNT: 5364
